BEGIN:VCALENDAR
VERSION:2.0
PRODID:-//ChamberMaster//Event Calendar 2.0//EN
METHOD:PUBLISH
X-PUBLISHED-TTL:P3D
REFRESH-INTERVAL:P3D
CALSCALE:GREGORIAN
BEGIN:VEVENT
DTSTART;VALUE=DATE:20230127
DTEND;VALUE=DATE:20230130
TRANSP:TRANSPARENT
X-MICROSOFT-CDO-ALLDAYEVENT:TRUE
SUMMARY:Winter Fest
DESCRIPTION:Winter Fest\n\nWorld Champion Ship Race\, bike demos\, vendors\, tail gate party\, voyageur saunas\, outdoor ice bar\, pancake breakfast\, live music
X-ALT-DESC;FMTTYPE=text/html:Winter Fest<br />\nWorld Champion Ship Race\, bike demos\, vendors\, tail gate party\, voyageur saunas\, outdoor ice bar\, pancake breakfast\, live music
LOCATION:45th Parallel
UID:e.249.7170
SEQUENCE:3
DTSTAMP:20260422T070500Z
URL:http://business.newrichmondchamber.com/events/details/winter-fest-7170
END:VEVENT

END:VCALENDAR
