BEGIN:VCALENDAR
VERSION:2.0
PRODID:-//ChamberMaster//Event Calendar 2.0//EN
METHOD:PUBLISH
X-PUBLISHED-TTL:P3D
REFRESH-INTERVAL:P3D
CALSCALE:GREGORIAN
BEGIN:VEVENT
DTSTART:20230518T200000Z
DTEND:20230518T203000Z
X-MICROSOFT-CDO-ALLDAYEVENT:FALSE
SUMMARY:Valley View Window Treatments Ribbon Cutting
DESCRIPTION:Ribbon cutting for Valley View Window Treatments
X-ALT-DESC;FMTTYPE=text/html:Ribbon cutting for Valley View Window Treatments
LOCATION:575 N Knowles Ave Ste C
UID:e.249.7235
SEQUENCE:3
DTSTAMP:20260422T012401Z
URL:http://business.newrichmondchamber.com/events/details/valley-view-window-treatments-ribbon-cutting-7235
END:VEVENT

END:VCALENDAR
