BEGIN:VCALENDAR
VERSION:2.0
PRODID:-//ChamberMaster//Event Calendar 2.0//EN
METHOD:PUBLISH
X-PUBLISHED-TTL:P3D
REFRESH-INTERVAL:P3D
CALSCALE:GREGORIAN
BEGIN:VEVENT
DTSTART;VALUE=DATE:20220426
DTEND;VALUE=DATE:20220427
TRANSP:TRANSPARENT
X-MICROSOFT-CDO-ALLDAYEVENT:TRUE
SUMMARY:United Way St. Croix Valley GiveBIG Event
DESCRIPTION:giveBIG St. Croix Valley is right around the corner!  Join us Tuesday\, April 26\, 2022 our annual 24-hour online giving event that provides community members with the opportunity to donate to the nonprofits and causes they care about most. Donors can help their chosen organizations win cash prizes from the over $10\,000 prize pool to maximize their fundraising. giveBIG is a unique and dynamic event that nonprofits look forward to all year long and rely on to support their missions. These organizations provide essential goods and services\, life-changing experiences\, and most of all\, hope to our neighbors in need.\n\n \n\nAny 501(c)(3) nonprofit organization that serves Burnett\, Pierce\, Polk\, or St. Croix counties is welcome to participate. Registration is open and interested organizations are encouraged to visit www.givebigscv.org to learn more and register. Questions can be directed to giveBIG Program Manager Erin Coughlin at erin.coughlin@unitedwaystcroix.org. If you are a local business and want to provide sponsorship for the event\, please email United Way St. Croix Valley Executive Director Lisa Murphy at lisa.murphy@unitedwaystcroix.org.
X-ALT-DESC;FMTTYPE=text/html:<span style="color:black\;">giveBIG St. Croix Valley is right around the corner!&nbsp\; Join us Tuesday\, April 26\, 2022 our annual 24-hour online giving event that provides community members with the opportunity to donate to the nonprofits and causes they care about most. Donors can help their chosen organizations win cash prizes from the over $10\,000 prize pool to maximize their fundraising. giveBIG is a unique and dynamic event that nonprofits look forward to all year long and rely on to support their missions. These organizations provide essential goods and services\, life-changing experiences\, and most of all\,&nbsp\;<strong>hope to our neighbors in need.</strong></span><br />\n&nbsp\;<br />\n<span style="color:#201F1E\;"><span style="font-size:11.5pt\;">Any 501(c)(3) nonprofit organization that serves Burnett\, Pierce\, Polk\, or St. Croix counties is welcome to participate. Registration is open and interested organizations are encouraged to visit&nbsp\;</span></span><span style="color:black\;"><span style="font-family:calibri\,sans-serif\;"><a data-auth="NotApplicable" data-linkindex="0" href="http://www.givebigscv.org/" target="_blank"><span style="font-family:times new roman\,serif\;"><span style="font-size:11.5pt\;">www.givebigscv.org</span></span></a></span></span><span style="color:#201F1E\;"><span style="font-size:11.5pt\;">&nbsp\;to learn more and register. Questions can be directed to giveBIG Program Manager Erin Coughlin at&nbsp\;</span></span><span style="color:black\;"><span style="font-family:calibri\,sans-serif\;"><a data-auth="NotApplicable" data-linkindex="1" href="mailto:erin.coughlin@unitedwaystcroix.org" target="_blank"><span style="font-family:times new roman\,serif\;"><span style="font-size:11.5pt\;">erin.coughlin@unitedwaystcroix.org</span></span></a></span></span><span style="color:#201F1E\;"><span style="font-size:11.5pt\;">. If you are a local business and want to provide sponsorship for the event\, please email United Way St. Croix Valley Executive Director Lisa Murphy at&nbsp\;</span></span><span style="color:black\;"><span style="font-family:calibri\,sans-serif\;"><a data-auth="NotApplicable" data-linkindex="2" href="mailto:lisa.murphy@unitedwaystcroiz.org" target="_blank"><span style="font-family:times new roman\,serif\;"><span style="font-size:11.5pt\;">lisa.murphy@unitedwaystcroix.org</span></span></a></span></span><span style="color:#201F1E\;"><span style="font-size:11.5pt\;">.</span></span><br />\n&nbsp\;
LOCATION:
UID:e.249.6991
SEQUENCE:3
DTSTAMP:20260422T215406Z
URL:http://business.newrichmondchamber.com/events/details/united-way-st-croix-valley-givebig-event-6991
END:VEVENT

END:VCALENDAR
