BEGIN:VCALENDAR
VERSION:2.0
PRODID:-//ChamberMaster//Event Calendar 2.0//EN
METHOD:PUBLISH
X-PUBLISHED-TTL:P3D
REFRESH-INTERVAL:P3D
CALSCALE:GREGORIAN
BEGIN:VEVENT
DTSTART:20230812T150000Z
DTEND:20230812T170000Z
X-MICROSOFT-CDO-ALLDAYEVENT:FALSE
SUMMARY:Two Bees and a Bud Moving Meditation & You-Pick Flowers
DESCRIPTION:Come allow yourself space on 40 acres of woods\, fields\, and flowers to deeply connect with yourself\, nature\, and others.\n\nWhat to Expect: You'll be guided through a meditation and movement experience using Open Floor principles near the pines and peaceful pond at Two Bees & A Bud. We'll explore the body resource of of expand and contract. What are you open to in your life? When do you shut down? Come and be creative and curious about how you move through life.
X-ALT-DESC;FMTTYPE=text/html:<p data-mce-style="font-weight: 400\;" style="overflow-wrap: break-word\; word-break: break-word\; box-sizing: border-box\; margin: 0px 0px 0.9375em\; color: rgb(134\, 134\, 134)\; font-family: -apple-system\, BlinkMacSystemFont\, &quot\;Segoe UI&quot\;\, Roboto\, Ubuntu\, &quot\;Helvetica Neue&quot\;\, sans-serif\, &quot\;Apple Color Emoji&quot\;\, &quot\;Segoe UI Emoji&quot\;\, &quot\;Segoe UI Symbol&quot\;\; font-size: 19px\;">Come allow yourself space on 40 acres of woods\, fields\, and flowers to deeply connect with yourself\, nature\, and others.</p>\n\n<p style="overflow-wrap: break-word\; word-break: break-word\; box-sizing: border-box\; margin: 0px 0px 0.9375em\; color: rgb(134\, 134\, 134)\; font-family: -apple-system\, BlinkMacSystemFont\, &quot\;Segoe UI&quot\;\, Roboto\, Ubuntu\, &quot\;Helvetica Neue&quot\;\, sans-serif\, &quot\;Apple Color Emoji&quot\;\, &quot\;Segoe UI Emoji&quot\;\, &quot\;Segoe UI Symbol&quot\;\; font-size: 19px\;"><span style="overflow-wrap: break-word\; word-break: break-word\; box-sizing: border-box\; font-weight: 700\;">What to Expect:</span><span style="overflow-wrap: break-word\; word-break: break-word\; box-sizing: border-box\;">&nbsp\;</span>You&rsquo\;ll be guided through a meditation and movement experience using&nbsp\;<a data-saferedirecturl="https://www.google.com/url?q=https://openfloor.org/&amp\;source=gmail&amp\;ust=1652270196500000&amp\;usg=AOvVaw2DrT5JctAapHtjcrX-cPRh" href="https://openfloor.org/" style="overflow-wrap: break-word\; word-break: break-word\; box-sizing: border-box\; background: transparent\; color: rgb(88\, 88\, 88)\; transition: color 0.1s ease-in-out 0s\;">Open Floor</a>&nbsp\;principles near the pines and peaceful pond at Two Bees &amp\; A Bud<span style="overflow-wrap: break-word\; word-break: break-word\; box-sizing: border-box\;">.&nbsp\;</span>We&rsquo\;ll explore the body resource of&nbsp\;of expand and contract. What are you open to in your life? When do you shut down? Come and be creative and curious about how you move through life.</p>\n
LOCATION:Two Bees and a Bud Flower Farm
UID:e.249.7255
SEQUENCE:3
DTSTAMP:20260421T201453Z
URL:http://business.newrichmondchamber.com/events/details/two-bees-and-a-bud-moving-meditation-you-pick-flowers-7255
END:VEVENT

END:VCALENDAR
