BEGIN:VCALENDAR
VERSION:2.0
PRODID:-//ChamberMaster//Event Calendar 2.0//EN
METHOD:PUBLISH
X-PUBLISHED-TTL:P3D
REFRESH-INTERVAL:P3D
CALSCALE:GREGORIAN
BEGIN:VEVENT
DTSTART:20230819T230000Z
DTEND:20230820T020000Z
X-MICROSOFT-CDO-ALLDAYEVENT:FALSE
SUMMARY:Two Bees and a Bud Backyard BBQ & Music Event
DESCRIPTION:Awesome music\, fantastic food and a field of flowers. \n\nWe can't wait to see you here!
X-ALT-DESC;FMTTYPE=text/html:<h2 data-mce-style="text-align: left\;" style="overflow-wrap: break-word\; word-break: break-word\; box-sizing: border-box\; font-size: 1.75em\; margin: 0px 0px 0.5em\; font-family: Ovo\, serif\; line-height: 1.4\; color: rgb(153\, 178\, 80)\;"><span class="JsGRdQ" style="overflow-wrap: break-word\; word-break: break-word\; box-sizing: border-box\; color: rgb(222\, 31\, 130)\;">Awesome music\, fantastic food and a field of flowers.&nbsp\;<br style="overflow-wrap: break-word\; word-break: break-word\; box-sizing: border-box\;" />\nWe can&#39\;t wait to see you here!</span></h2>\n
LOCATION:Two Bees & A Bud Flower Farm
UID:e.249.7254
SEQUENCE:3
DTSTAMP:20260421T183859Z
URL:http://business.newrichmondchamber.com/events/details/two-bees-and-a-bud-backyard-bbq-music-event-7254
END:VEVENT

END:VCALENDAR
