BEGIN:VCALENDAR
VERSION:2.0
PRODID:-//ChamberMaster//Event Calendar 2.0//EN
METHOD:PUBLISH
X-PUBLISHED-TTL:P3D
REFRESH-INTERVAL:P3D
CALSCALE:GREGORIAN
BEGIN:VEVENT
DTSTART:20230614T200000Z
DTEND:20230614T210000Z
X-MICROSOFT-CDO-ALLDAYEVENT:FALSE
SUMMARY:Two Bees & A Bud Flower Farm Ribbon Cutting
DESCRIPTION:Ribbon Cutting for Two Bees and a Bud Flower Farm
X-ALT-DESC;FMTTYPE=text/html:Ribbon Cutting for Two Bees and a Bud Flower Farm
LOCATION:1549 200th Ave New Richmond\, WI
UID:e.249.7243
SEQUENCE:3
DTSTAMP:20260421T233939Z
URL:http://business.newrichmondchamber.com/events/details/two-bees-a-bud-flower-farm-ribbon-cutting-7243
END:VEVENT

END:VCALENDAR
