BEGIN:VCALENDAR
VERSION:2.0
PRODID:-//ChamberMaster//Event Calendar 2.0//EN
METHOD:PUBLISH
X-PUBLISHED-TTL:P3D
REFRESH-INTERVAL:P3D
CALSCALE:GREGORIAN
BEGIN:VEVENT
DTSTART:20230223T173000Z
DTEND:20230223T190000Z
X-MICROSOFT-CDO-ALLDAYEVENT:FALSE
SUMMARY:The Digital Journey
DESCRIPTION:The Digital Journey.  How to manage online reviews\; understanding how to reach your target audience\; how you can appeal to more potential clients
X-ALT-DESC;FMTTYPE=text/html:The Digital Journey.&nbsp\; How to manage online reviews\; understanding how to reach your target audience\; how you can appeal to more potential clients
LOCATION:New Richmond Chamber of Commerce office 245 S. Knowles Ave. New Richmond WI 54017
UID:e.249.7174
SEQUENCE:3
DTSTAMP:20260422T070406Z
URL:http://business.newrichmondchamber.com/events/details/the-digital-journey-7174
END:VEVENT

END:VCALENDAR
