BEGIN:VCALENDAR
VERSION:2.0
PRODID:-//ChamberMaster//Event Calendar 2.0//EN
METHOD:PUBLISH
X-PUBLISHED-TTL:P3D
REFRESH-INTERVAL:P3D
CALSCALE:GREGORIAN
BEGIN:VEVENT
DTSTART:20230616T200000Z
DTEND:20230616T210000Z
X-MICROSOFT-CDO-ALLDAYEVENT:FALSE
SUMMARY:T-Mobile Ribbon Cutting
DESCRIPTION:Ribbon Cutting for T-Mobile
X-ALT-DESC;FMTTYPE=text/html:Ribbon Cutting for T-Mobile
LOCATION:128 Grant Way Ste 100 New Richmond\, WI
UID:e.249.7244
SEQUENCE:3
DTSTAMP:20260421T233848Z
URL:http://business.newrichmondchamber.com/events/details/t-mobile-ribbon-cutting-7244
END:VEVENT

END:VCALENDAR
