BEGIN:VCALENDAR
VERSION:2.0
PRODID:-//ChamberMaster//Event Calendar 2.0//EN
METHOD:PUBLISH
X-PUBLISHED-TTL:P3D
REFRESH-INTERVAL:P3D
CALSCALE:GREGORIAN
BEGIN:VEVENT
DTSTART:20251024T210000Z
DTEND:20251024T233000Z
X-MICROSOFT-CDO-ALLDAYEVENT:FALSE
SUMMARY:St. Luke's Fall Harvest Dinner
DESCRIPTION:Proceeds will go to Five Loaves Food Shelf\, Love Baskets\, and St. Luke's National Youth Gathering.\n\n\n\nMENU: Meatballs\, mashed potatoes & gravy\, coleslaw\, green beans almondine\, squash\, dinner rolls\, jell-o squares (dine in only)\, and apple crisp.
X-ALT-DESC;FMTTYPE=text/html:Proceeds will go to Five Loaves Food Shelf\, Love Baskets\, and St. Luke&#39\;s National Youth Gathering.<br />\n<br />\nMENU: Meatballs\, mashed potatoes &amp\; gravy\, coleslaw\, green beans almondine\, squash\, dinner rolls\, jell-o squares (dine in only)\, and apple crisp.
LOCATION:St. Luke's Lutheran Church 365 West River Drive\, New Richmond (Across from Westfields Hospital)
UID:e.249.7916
SEQUENCE:3
DTSTAMP:20260420T014241Z
URL:http://business.newrichmondchamber.com/events/details/st-luke-s-fall-harvest-dinner-7916
END:VEVENT

END:VCALENDAR
