BEGIN:VCALENDAR
VERSION:2.0
PRODID:-//ChamberMaster//Event Calendar 2.0//EN
METHOD:PUBLISH
X-PUBLISHED-TTL:P3D
REFRESH-INTERVAL:P3D
CALSCALE:GREGORIAN
BEGIN:VEVENT
DTSTART:20230719T140000Z
DTEND:20230723T050000Z
X-MICROSOFT-CDO-ALLDAYEVENT:FALSE
SUMMARY:St Croix County Fair
DESCRIPTION:5 days of fun\, food\, activities\, entertainment\, and a wide variety of exhibits and animals for all to enjoy.
X-ALT-DESC;FMTTYPE=text/html:5 days of fun\, food\, activities\, entertainment\, and a wide variety of exhibits and animals for all to enjoy.
LOCATION:Glenwood City\, WI
UID:e.249.7248
SEQUENCE:3
DTSTAMP:20260421T201259Z
URL:http://business.newrichmondchamber.com/events/details/st-croix-county-fair-7248
END:VEVENT

END:VCALENDAR
