BEGIN:VCALENDAR
VERSION:2.0
PRODID:-//ChamberMaster//Event Calendar 2.0//EN
METHOD:PUBLISH
X-PUBLISHED-TTL:P3D
REFRESH-INTERVAL:P3D
CALSCALE:GREGORIAN
BEGIN:VEVENT
DTSTART:20250418T200000Z
DTEND:20250418T210000Z
X-MICROSOFT-CDO-ALLDAYEVENT:FALSE
SUMMARY:St. Croix Automotive Ribbon Cutting
DESCRIPTION:We hope you can join us to welcome St. Croix Automotive to their new location!
X-ALT-DESC;FMTTYPE=text/html:We hope you can join us to welcome St. Croix Automotive to their new location!
LOCATION:1470 Hamilton Dr. New Richmond\, WI
UID:e.249.7888
SEQUENCE:3
DTSTAMP:20260420T102555Z
URL:http://business.newrichmondchamber.com/events/details/st-croix-automotive-ribbon-cutting-7888
END:VEVENT

END:VCALENDAR
