BEGIN:VCALENDAR
VERSION:2.0
PRODID:-//ChamberMaster//Event Calendar 2.0//EN
METHOD:PUBLISH
X-PUBLISHED-TTL:P3D
REFRESH-INTERVAL:P3D
CALSCALE:GREGORIAN
BEGIN:VEVENT
DTSTART:20220312T160000Z
DTEND:20220312T230000Z
X-MICROSOFT-CDO-ALLDAYEVENT:FALSE
SUMMARY:Rustic Eagle 1 Year Anniversary
DESCRIPTION:Celebrating our 1 year anniversary! We would like to thank all of our great customers that have supported us over the last year! Food\, drinks and fin shopping\, double loyalty on cards. Discounts on home decor and furniture\, plus a free gift with every purchase!
X-ALT-DESC;FMTTYPE=text/html:Celebrating our 1 year anniversary! We would like to thank all of our great customers that have supported us over the last year! Food\, drinks and fin shopping\, double loyalty on cards. Discounts on home decor and furniture\, plus a free gift with every purchase!
LOCATION:1477 hwy 65 New Richmond\, WI
UID:e.249.6983
SEQUENCE:3
DTSTAMP:20260423T010928Z
URL:http://business.newrichmondchamber.com/events/details/rustic-eagle-1-year-anniversary-6983
END:VEVENT

END:VCALENDAR
