BEGIN:VCALENDAR
VERSION:2.0
PRODID:-//ChamberMaster//Event Calendar 2.0//EN
METHOD:PUBLISH
X-PUBLISHED-TTL:P3D
REFRESH-INTERVAL:P3D
CALSCALE:GREGORIAN
BEGIN:VEVENT
DTSTART:20250810T200000Z
DTEND:20250810T230000Z
X-MICROSOFT-CDO-ALLDAYEVENT:FALSE
SUMMARY:Rise Summer Celebration Picnic
DESCRIPTION:Join us for Rise's Summer Celebration Picnic on Sunday\, August 10\, from 3 6 p.m. at Aquatore Park in Blaine! Enjoy games\, music by DJ John Thorp\, and great food as we celebrate Rise's anniversary with the people we serve\, their families\, and staff. Admission is free! RSVPs are encouraged not required. RSVP to info@rise.org or 763-786-8334.
X-ALT-DESC;FMTTYPE=text/html:Join us for Rise&rsquo\;s Summer Celebration Picnic on Sunday\, August 10\, from 3&ndash\;6 p.m. at Aquatore Park in Blaine! Enjoy games\, music by DJ John Thorp\, and great food as we celebrate Rise&rsquo\;s anniversary with the people we serve\, their families\, and staff. Admission is free! RSVPs are encouraged not required. RSVP to info@rise.org or 763-786-8334.
LOCATION:Aquatore Park 9191 Lincoln St. NE\, Blaine\, MN 55434
UID:e.249.7908
SEQUENCE:3
DTSTAMP:20260420T051234Z
URL:http://business.newrichmondchamber.com/events/details/rise-summer-celebration-picnic-08-10-2025-7908
END:VEVENT

END:VCALENDAR
