BEGIN:VCALENDAR
VERSION:2.0
PRODID:-//ChamberMaster//Event Calendar 2.0//EN
METHOD:PUBLISH
X-PUBLISHED-TTL:P3D
REFRESH-INTERVAL:P3D
CALSCALE:GREGORIAN
BEGIN:VEVENT
DTSTART:20251016T130000Z
DTEND:20251016T140000Z
X-MICROSOFT-CDO-ALLDAYEVENT:FALSE
SUMMARY:Rise and Shine Fundraising Breakfast
DESCRIPTION:Our committed donors and interested new supporters are invited to join Rise's leadership for a delicious breakfast\, inspirational stories\, and updates for the future as we invite them to continue supporting Rise's work opening doors to opportunity for thousands of people with disabilities and other challenges in Minnesota and Western Wisconsin. Menu: Plated meal will include scrambled eggs\, pancakes\, breakfast potatoes\, and sausage The event is free to attend\, RSVP required. Donations to Rise will be requested. RSVP with your information to tbrinker@rise.org by October 3rd. RSVP information to include: - Full names for you and guests - Dietary restrictions or allergies to consider and for whom they are needed - If ASL interpreting is required and for whom it's needed - Any accessibility or wheelchair needs and for whom they are needed Would you like to fill your own table of 8-10 guests with individuals interested in supporting Rise's mission at our fundraising breakfast? Include their full names and any of the above information with your RSVP. We are currently seeking event sponsors for our calendar of events throughout 2025\, which includes an online awareness campaign\, an online fundraising auction\, and a business networking event. Interested in learning more or sponsoring? Contact Tom at tbrinker@rise.org or 763-792-2450.
X-ALT-DESC;FMTTYPE=text/html:Our committed donors and interested new supporters are invited to join Rise&rsquo\;s leadership for a delicious breakfast\, inspirational stories\, and updates for the future as we invite them to continue supporting Rise&rsquo\;s work opening doors to opportunity for thousands of people with disabilities and other challenges in Minnesota and Western Wisconsin. Menu: Plated meal will include scrambled eggs\, pancakes\, breakfast potatoes\, and sausage The event is free to attend\, RSVP required. Donations to Rise will be requested. RSVP with your information to tbrinker@rise.org by October 3rd. RSVP information to include: - Full names for you and guests - Dietary restrictions or allergies to consider and for whom they are needed - If ASL interpreting is required and for whom it&rsquo\;s needed - Any accessibility or wheelchair needs and for whom they are needed Would you like to fill your own table of 8-10 guests with individuals interested in supporting Rise&rsquo\;s mission at our fundraising breakfast? Include their full names and any of the above information with your RSVP. We are currently seeking event sponsors for our calendar of events throughout 2025\, which includes an online awareness campaign\, an online fundraising auction\, and a business networking event. Interested in learning more or sponsoring? Contact Tom at tbrinker@rise.org or 763-792-2450.
LOCATION:Banquets of Minnesota 6310 Hwy 65 NE Fridley\, MN 55432
UID:e.249.7911
SEQUENCE:3
DTSTAMP:20260420T014604Z
URL:http://business.newrichmondchamber.com/events/details/rise-and-shine-fundraising-breakfast-7911
END:VEVENT

END:VCALENDAR
