BEGIN:VCALENDAR
VERSION:2.0
PRODID:-//ChamberMaster//Event Calendar 2.0//EN
METHOD:PUBLISH
X-PUBLISHED-TTL:P3D
REFRESH-INTERVAL:P3D
CALSCALE:GREGORIAN
BEGIN:VEVENT
DTSTART:20210801T200000Z
DTEND:20210801T230000Z
X-MICROSOFT-CDO-ALLDAYEVENT:FALSE
SUMMARY:Rise 50th Anniversary Kickoff Picnic
DESCRIPTION:August 1\, 2021   50th Anniversary Kickoff Picnic\n\n	3-6pm\n	Aquatore Park in Blaine - 9191 Lincoln St NE\, Blaine\, MN 55434\n	No cost to attend   RSVP's encouraged (http://bit.ly/RisePicnic)\n	Games\, music\, dancing\, food\n	Questions? Contact tbrinker@rise.org
X-ALT-DESC;FMTTYPE=text/html:August 1\, 2021 &ndash\; <strong>50<sup>th</sup> Anniversary Kickoff Picnic</strong>\n<ul>\n	<li>3-6pm</li>\n	<li>Aquatore Park in Blaine - 9191 Lincoln St NE\, Blaine\, MN 55434</li>\n	<li>No cost to attend &ndash\; RSVP&rsquo\;s encouraged (<a href="http://bit.ly/RisePicnic">http://bit.ly/RisePicnic</a>)</li>\n	<li>Games\, music\, dancing\, food</li>\n	<li>Questions? Contact <a href="mailto:tbrinker@rise.org">tbrinker@rise.org</a></li>\n</ul>\n
LOCATION:Aquatore Park in Blaine - 9191 Lincoln St NE\, Blaine\, MN 55434
UID:e.249.6942
SEQUENCE:3
DTSTAMP:20260423T111320Z
URL:http://business.newrichmondchamber.com/events/details/rise-50th-anniversary-kickoff-picnic-6942
END:VEVENT

END:VCALENDAR
