BEGIN:VCALENDAR
VERSION:2.0
PRODID:-//ChamberMaster//Event Calendar 2.0//EN
METHOD:PUBLISH
X-PUBLISHED-TTL:P3D
REFRESH-INTERVAL:P3D
CALSCALE:GREGORIAN
BEGIN:VEVENT
DTSTART:20230825T180000Z
DTEND:20230825T180000Z
X-MICROSOFT-CDO-ALLDAYEVENT:FALSE
SUMMARY:Ribbon Cutting - Willow Countryside Villas
DESCRIPTION:Ribbon Cutting
X-ALT-DESC;FMTTYPE=text/html:Ribbon Cutting
LOCATION:1728 County Road A New Richmond\, WI 54017
UID:e.249.7237
SEQUENCE:3
DTSTAMP:20260421T185408Z
URL:http://business.newrichmondchamber.com/events/details/ribbon-cutting-willow-countryside-villas-7237
END:VEVENT

END:VCALENDAR
