BEGIN:VCALENDAR
VERSION:2.0
PRODID:-//ChamberMaster//Event Calendar 2.0//EN
METHOD:PUBLISH
X-PUBLISHED-TTL:P3D
REFRESH-INTERVAL:P3D
CALSCALE:GREGORIAN
BEGIN:VEVENT
DTSTART:20231016T200000Z
DTEND:20231016T203000Z
X-MICROSOFT-CDO-ALLDAYEVENT:FALSE
SUMMARY:Ribbon Cutting - West Fifth Town Homes and Mill City Apartments
DESCRIPTION:Ribbon Cutting
X-ALT-DESC;FMTTYPE=text/html:Ribbon Cutting
LOCATION:3:00 West Fifth Townhomes\, 1945 West 5th St.\, New Richmond\, WI\, with open house prior from 2:00 pm to 3:00 pm 3:30 Mill City\, 1619 Doman Drive\, New Richmond\, WI\, with open house afterward until 5:00 pm
UID:e.249.7292
SEQUENCE:3
DTSTAMP:20260421T154033Z
URL:http://business.newrichmondchamber.com/events/details/ribbon-cutting-west-fifth-town-homes-and-mill-city-apartments-7292
END:VEVENT

END:VCALENDAR
