BEGIN:VCALENDAR
VERSION:2.0
PRODID:-//ChamberMaster//Event Calendar 2.0//EN
METHOD:PUBLISH
X-PUBLISHED-TTL:P3D
REFRESH-INTERVAL:P3D
CALSCALE:GREGORIAN
BEGIN:VEVENT
DTSTART:20230928T200000Z
DTEND:20230928T200000Z
X-MICROSOFT-CDO-ALLDAYEVENT:FALSE
SUMMARY:Ribbon Cutting - Oasis Natural Health
DESCRIPTION:Ribbon Cutting
X-ALT-DESC;FMTTYPE=text/html:Ribbon Cutting
LOCATION:228 Paperjack Drive New Richmond\, WI
UID:e.249.7270
SEQUENCE:3
DTSTAMP:20260421T171600Z
URL:http://business.newrichmondchamber.com/events/details/ribbon-cutting-oasis-natural-health-7270
END:VEVENT

END:VCALENDAR
