BEGIN:VCALENDAR
VERSION:2.0
PRODID:-//ChamberMaster//Event Calendar 2.0//EN
METHOD:PUBLISH
X-PUBLISHED-TTL:P3D
REFRESH-INTERVAL:P3D
CALSCALE:GREGORIAN
BEGIN:VEVENT
DTSTART:20251104T210000Z
DTEND:20251104T213000Z
X-MICROSOFT-CDO-ALLDAYEVENT:FALSE
SUMMARY:Ribbon Cutting - Blooms For Happiness
DESCRIPTION:Ribbon Cutting for Blooms For Happiness in River Falls.
X-ALT-DESC;FMTTYPE=text/html:Ribbon Cutting for Blooms For Happiness in River Falls.
LOCATION:1674 Commerce Ct River Falls 54022
UID:e.249.7915
SEQUENCE:3
DTSTAMP:20260419T180118Z
URL:http://business.newrichmondchamber.com/events/details/ribbon-cutting-blooms-for-happiness-7915
END:VEVENT

END:VCALENDAR
