BEGIN:VCALENDAR
VERSION:2.0
PRODID:-//ChamberMaster//Event Calendar 2.0//EN
METHOD:PUBLISH
X-PUBLISHED-TTL:P3D
REFRESH-INTERVAL:P3D
CALSCALE:GREGORIAN
BEGIN:VEVENT
DTSTART:20220617T190000Z
DTEND:20220618T190000Z
X-MICROSOFT-CDO-ALLDAYEVENT:FALSE
SUMMARY:Relay For Life/ St. Croix County
DESCRIPTION:Relay for Life/ St. Croix County
X-ALT-DESC;FMTTYPE=text/html:Relay for Life/ St. Croix County
LOCATION:St. Croix Central High School 1751 Broadway St. Hammond\, WI 54015
UID:e.249.6997
SEQUENCE:3
DTSTAMP:20260422T200559Z
URL:http://business.newrichmondchamber.com/events/details/relay-for-life-st-croix-county-6997
END:VEVENT

END:VCALENDAR
