BEGIN:VCALENDAR
VERSION:2.0
PRODID:-//ChamberMaster//Event Calendar 2.0//EN
METHOD:PUBLISH
X-PUBLISHED-TTL:P3D
REFRESH-INTERVAL:P3D
CALSCALE:GREGORIAN
BEGIN:VEVENT
DTSTART;VALUE=DATE:20221015
DTEND;VALUE=DATE:20221017
TRANSP:TRANSPARENT
X-MICROSOFT-CDO-ALLDAYEVENT:TRUE
SUMMARY:Pick Your Own Pumpkin
DESCRIPTION:Pick Your Own Pumpkin at Glenna Farms Take a free hayride to the pumpkin patch to pick your own pumpkin and then enjoy free cookies and apple cider.
X-ALT-DESC;FMTTYPE=text/html:Pick Your Own Pumpkin at Glenna Farms Take a free hayride to the pumpkin patch to pick your own pumpkin and then enjoy free cookies and apple cider.
LOCATION:Glenna Farms 1333 120th Street Amery\, WI 54001
UID:e.249.7010
SEQUENCE:3
DTSTAMP:20260422T122154Z
URL:http://business.newrichmondchamber.com/events/details/pick-your-own-pumpkin-10-15-2022-7010
END:VEVENT

END:VCALENDAR
