BEGIN:VCALENDAR
VERSION:2.0
PRODID:-//ChamberMaster//Event Calendar 2.0//EN
METHOD:PUBLISH
X-PUBLISHED-TTL:P3D
REFRESH-INTERVAL:P3D
CALSCALE:GREGORIAN
BEGIN:VEVENT
DTSTART:20250304T173000Z
DTEND:20250304T200000Z
X-MICROSOFT-CDO-ALLDAYEVENT:FALSE
SUMMARY:New Richmond Senior Center Mardi Gras Party
DESCRIPTION:New Richmond Mardi Gras Party\n\nLunch served at 11:30am\n\nJazz music at 12:15-2ppm by: Jeffrey Mason\, Brad Anderson\, Eric Aleckson\, Jerry Gorman\, Mike Dougherty\, Bernie Wollenberg. There will be a prize for best mask!\n\n\n\nMENU:\n\nA Special Mardi Gras\n\nChicken gumbo\n\nMuffuletta Sandwich\n\nNew Orleans style \n\nDessert\n\n\n\nRSVP for lunch by Thursday Feb 27th\, by calling 715-888-1205\n\n(Suggested contribution of $6.00/meal for those over the age of 60.\n\nThose under 60 years of age - $8.00/meal.)
X-ALT-DESC;FMTTYPE=text/html:New Richmond Mardi Gras Party<br />\nLunch served at 11:30am<br />\nJazz music at 12:15-2ppm by: Jeffrey Mason\, Brad Anderson\, Eric Aleckson\, Jerry Gorman\, Mike Dougherty\, Bernie Wollenberg. There will be a prize for best mask!<br />\n<br />\nMENU:<br />\nA Special Mardi Gras<br />\nChicken gumbo<br />\nMuffuletta Sandwich<br />\nNew Orleans style&nbsp\;<br />\nDessert<br />\n<br />\nRSVP for lunch by Thursday Feb 27th\, by calling 715-888-1205<br />\n(Suggested contribution of $6.00/meal for those over the age of 60.<br />\nThose under 60 years of age - $8.00/meal.)
LOCATION:New Richmond Senior Center 156 East 1st Street New Richmond\, WI (Lower level of the Civic Center)
UID:e.249.7753
SEQUENCE:3
DTSTAMP:20260420T132619Z
URL:http://business.newrichmondchamber.com/events/details/new-richmond-senior-center-mardi-gras-party-7753
END:VEVENT

END:VCALENDAR
