BEGIN:VCALENDAR
VERSION:2.0
PRODID:-//ChamberMaster//Event Calendar 2.0//EN
METHOD:PUBLISH
X-PUBLISHED-TTL:P3D
REFRESH-INTERVAL:P3D
CALSCALE:GREGORIAN
BEGIN:VEVENT
DTSTART:20220524T170000Z
DTEND:20220524T170000Z
X-MICROSOFT-CDO-ALLDAYEVENT:FALSE
SUMMARY:New Richmond Medical Center/Associated Eye Care Groundbreaking
DESCRIPTION:Program at 12:15pm
X-ALT-DESC;FMTTYPE=text/html:Program at 12:15pm
LOCATION:525 N. Knowles Ave. New Richmond WI 54017
UID:e.249.6995
SEQUENCE:3
DTSTAMP:20260422T200926Z
URL:http://business.newrichmondchamber.com/events/details/new-richmond-medical-center-associated-eye-care-groundbreaking-6995
END:VEVENT

END:VCALENDAR
