BEGIN:VCALENDAR
VERSION:2.0
PRODID:-//ChamberMaster//Event Calendar 2.0//EN
METHOD:PUBLISH
X-PUBLISHED-TTL:P3D
REFRESH-INTERVAL:P3D
CALSCALE:GREGORIAN
BEGIN:VEVENT
DTSTART:20230518T160000Z
DTEND:20230519T000000Z
X-MICROSOFT-CDO-ALLDAYEVENT:FALSE
SUMMARY:Midco Groundbreaking/Open House
DESCRIPTION:(please note\, at different locations)\n\nGroundbreaking (11am)\n\nOpen House (4-7pm)
X-ALT-DESC;FMTTYPE=text/html:(please note\, at different locations)<br />\nGroundbreaking (11am)<br />\nOpen House (4-7pm)
LOCATION:GROUNDBREAKING WITH THE CITY Midco Tech Ops Center 1047 N. Dakota Avenue New Richmond\, WI COMMUNITY OPEN HOUSE: Northwood Technical College\, Conference Rooms 1122 A-C
UID:e.249.7231
SEQUENCE:3
DTSTAMP:20260422T012106Z
URL:http://business.newrichmondchamber.com/events/details/midco-groundbreaking-open-house-7231
END:VEVENT

END:VCALENDAR
