BEGIN:VCALENDAR
VERSION:2.0
PRODID:-//ChamberMaster//Event Calendar 2.0//EN
METHOD:PUBLISH
X-PUBLISHED-TTL:P3D
REFRESH-INTERVAL:P3D
CALSCALE:GREGORIAN
BEGIN:VEVENT
DTSTART:20220327T150000Z
DTEND:20220327T190000Z
X-MICROSOFT-CDO-ALLDAYEVENT:FALSE
SUMMARY:MapleFest
DESCRIPTION:Celebrate spring with Glenna Farms! Enjoy free pancakes\, horse-drawn hayrides and a "sap to syrup" tour.
X-ALT-DESC;FMTTYPE=text/html:Celebrate spring with Glenna Farms! Enjoy free pancakes\, horse-drawn hayrides and a &quot\;sap to syrup&quot\; tour.
LOCATION:Glenna Farms 1333 120th Street Amery\, WI 54001
UID:e.249.6986
SEQUENCE:3
DTSTAMP:20260424T090824Z
URL:http://business.newrichmondchamber.com/events/details/maplefest-03-27-2022-6986
END:VEVENT

END:VCALENDAR
