BEGIN:VCALENDAR
VERSION:2.0
PRODID:-//ChamberMaster//Event Calendar 2.0//EN
METHOD:PUBLISH
X-PUBLISHED-TTL:P3D
REFRESH-INTERVAL:P3D
CALSCALE:GREGORIAN
BEGIN:VEVENT
DTSTART:20230326T150000Z
DTEND:20230326T190000Z
X-MICROSOFT-CDO-ALLDAYEVENT:FALSE
SUMMARY:MapleFest
DESCRIPTION:Celebrate spring with Glenna Farms! Join us for the 23rd annual MapleFest. Enjoy free pancakes\, a 'sap to syrup' tour and giveaways.
X-ALT-DESC;FMTTYPE=text/html:Celebrate spring with Glenna Farms! Join us for the 23rd annual MapleFest. Enjoy free pancakes\, a &#39\;sap to syrup&#39\; tour and giveaways.
LOCATION:Glenna Farms 1333 120th Street Amery\, WI 54001
UID:e.249.7182
SEQUENCE:3
DTSTAMP:20260422T032710Z
URL:http://business.newrichmondchamber.com/events/details/maplefest-03-26-2023-7182
END:VEVENT

END:VCALENDAR
