BEGIN:VCALENDAR
VERSION:2.0
PRODID:-//ChamberMaster//Event Calendar 2.0//EN
METHOD:PUBLISH
X-PUBLISHED-TTL:P3D
REFRESH-INTERVAL:P3D
CALSCALE:GREGORIAN
BEGIN:VEVENT
DTSTART:20230629T220000Z
DTEND:20230630T020000Z
X-MICROSOFT-CDO-ALLDAYEVENT:FALSE
SUMMARY:Lift Bridge Brewing - Supporting Rise
DESCRIPTION:Visit Lift Bridge New Richmond (1280 Madison Ave\, New Richmond\, WI) on Thursday\, June 29th for Townie Thursday from 5-9pm and support Rise!\n\n$1 from every pint sold and $2 from every crowler/specialty sold during this event will be donated to Rise.\n\n\n	Includes 6 packs and 12 packs\n\n\nRise staff members and President Lynn Noren will be joining!
X-ALT-DESC;FMTTYPE=text/html:<p class="x_ContentPasted1" style="margin: 0px 0px 10px\; box-sizing: border-box\; font-size: 18px\; line-height: 1.7\; font-family: Lato\, sans-serif\; color: rgb(42\, 43\, 55)\;"><span style="border: 0px\; font-style: inherit\; font-variant: inherit\; font-weight: inherit\; font-stretch: inherit\; font-size: 12pt\; line-height: normal\; font-family: Calibri\, Helvetica\, sans-serif\; margin: 0px\; padding: 0px\; vertical-align: baseline\; color: rgb(0\, 0\, 0)\;">Visit Lift Bridge New Richmond (</span><a class="x_ContentPasted1" data-auth="NotApplicable" data-linkindex="0" data-loopstyle="link" href="https://goo.gl/maps/rEcWx4Te8z5gDYwx9" rel="noopener noreferrer" style="border: 0px\; font: inherit\; margin: 0px\; padding: 0px\; vertical-align: baseline\; box-sizing: border-box\; text-decoration-line: none\; color: rgb(198\, 52\, 145)\;" target="_blank"><span style="border: 0px\; font-style: inherit\; font-variant: inherit\; font-weight: inherit\; font-stretch: inherit\; font-size: 12pt\; line-height: normal\; font-family: Calibri\, Helvetica\, sans-serif\; margin: 0px\; padding: 0px\; vertical-align: baseline\; color: rgb(0\, 0\, 0)\;">1280 Madison Ave\, New Richmond\, WI</span></a><span style="border: 0px\; font-style: inherit\; font-variant: inherit\; font-weight: inherit\; font-stretch: inherit\; font-size: 12pt\; line-height: normal\; font-family: Calibri\, Helvetica\, sans-serif\; margin: 0px\; padding: 0px\; vertical-align: baseline\; color: rgb(0\, 0\, 0)\;">) on Thursday\, June 29th for Townie Thursday from 5-9pm and support Rise!</span></p>\n\n<p class="x_ContentPasted1" style="margin: 0px 0px 10px\; box-sizing: border-box\; font-size: 18px\; line-height: 1.7\; font-family: Lato\, sans-serif\; color: rgb(42\, 43\, 55)\;"><span style="border: 0px\; font-style: inherit\; font-variant: inherit\; font-weight: inherit\; font-stretch: inherit\; font-size: 12pt\; line-height: normal\; font-family: Calibri\, Helvetica\, sans-serif\; margin: 0px\; padding: 0px\; vertical-align: baseline\; color: rgb(0\, 0\, 0)\;">$1 from every pint sold and $2 from every crowler/specialty sold during this event will be donated to Rise.</span></p>\n\n<ul style="box-sizing: border-box\; margin-top: 0px\; margin-bottom: 10px\; font-family: Lato\, sans-serif\; font-size: 18px\; color: rgb(42\, 43\, 55)\;">\n	<li style="box-sizing: border-box\; margin-bottom: 6px\; font-family: Calibri\, Helvetica\, sans-serif\; font-size: 12pt\; color: rgb(0\, 0\, 0)\;"><span style="border: 0px\; font-style: inherit\; font-variant: inherit\; font-weight: inherit\; font-stretch: inherit\; font-size: 12pt\; line-height: inherit\; margin: 0px\; padding: 0px\; vertical-align: baseline\;"><em class="x_ContentPasted1" style="box-sizing: border-box\;">Includes 6 packs and 12 packs</em></span></li>\n</ul>\n\n<p class="x_ContentPasted1" style="margin: 0px 0px 10px\; box-sizing: border-box\; font-size: 18px\; line-height: 1.7\; font-family: Lato\, sans-serif\; color: rgb(42\, 43\, 55)\;"><span style="border: 0px\; font-style: inherit\; font-variant: inherit\; font-weight: inherit\; font-stretch: inherit\; font-size: 12pt\; line-height: normal\; font-family: Calibri\, Helvetica\, sans-serif\; margin: 0px\; padding: 0px\; vertical-align: baseline\; color: rgb(0\, 0\, 0)\;">Rise staff members and President Lynn Noren will be joining!</span></p>\n
LOCATION:Lift Bridge (1280 Madison Ave\, New Richmond)
UID:e.249.7239
SEQUENCE:3
DTSTAMP:20260421T215101Z
URL:http://business.newrichmondchamber.com/events/details/lift-bridge-brewing-supporting-rise-7239
END:VEVENT

END:VCALENDAR
