BEGIN:VCALENDAR
VERSION:2.0
PRODID:-//ChamberMaster//Event Calendar 2.0//EN
METHOD:PUBLISH
X-PUBLISHED-TTL:P3D
REFRESH-INTERVAL:P3D
CALSCALE:GREGORIAN
BEGIN:VEVENT
DTSTART:20221227T190000Z
DTEND:20221227T220000Z
X-MICROSOFT-CDO-ALLDAYEVENT:FALSE
SUMMARY:Kristo Orthodontics Skates & Smiles Party
DESCRIPTION:Join our Kristo team for our Skates & Smiles Party on Tuesday\, December 27 at the New Richmond Sports Center! All friends\, families\, and community members are welcome to attend this FREE event from 1:00-4:00pm. Enjoy FREE skating\, a free popcorn and hot cocoa from the concession stand\, and a chance at FUN raffle prizes from our Kristo team! We can't wait to see you there! *All attendees must bring their own skates*
X-ALT-DESC;FMTTYPE=text/html:Join our Kristo team for our Skates &amp\; Smiles Party on Tuesday\, December 27 at the New Richmond Sports Center! All friends\, families\, and community members are welcome to attend this FREE event from 1:00-4:00pm. Enjoy FREE skating\, a free popcorn and hot cocoa from the concession stand\, and a chance at FUN raffle prizes from our Kristo team! We can&#39\;t wait to see you there! *All attendees must bring their own skates*
LOCATION:New Richmond Sports Center-Ice Arena 450 Sports Center Rd. New Richmond\, WI 54017
UID:e.249.7020
SEQUENCE:3
DTSTAMP:20260422T092646Z
URL:http://business.newrichmondchamber.com/events/details/kristo-orthodontics-skates-smiles-party-7020
END:VEVENT

END:VCALENDAR
