BEGIN:VCALENDAR
VERSION:2.0
PRODID:-//ChamberMaster//Event Calendar 2.0//EN
METHOD:PUBLISH
X-PUBLISHED-TTL:P3D
REFRESH-INTERVAL:P3D
CALSCALE:GREGORIAN
BEGIN:VEVENT
DTSTART:20211204T180000Z
DTEND:20211204T220000Z
X-MICROSOFT-CDO-ALLDAYEVENT:FALSE
SUMMARY:Holiday Sampler at Glenna Farms
DESCRIPTION:Get ready for holiday entertaining with Glenna Farms! Spend the afternoon tasting wine\, cheese and chocolate.
X-ALT-DESC;FMTTYPE=text/html:Get ready for holiday entertaining with Glenna Farms! Spend the afternoon tasting wine\, cheese and chocolate.
LOCATION:Glenna Farms 1333 120th Street Amery\, Wisconsin 54001
UID:e.249.6969
SEQUENCE:3
DTSTAMP:20260423T043617Z
URL:http://business.newrichmondchamber.com/events/details/holiday-sampler-at-glenna-farms-6969
END:VEVENT

END:VCALENDAR
