BEGIN:VCALENDAR
VERSION:2.0
PRODID:-//ChamberMaster//Event Calendar 2.0//EN
METHOD:PUBLISH
X-PUBLISHED-TTL:P3D
REFRESH-INTERVAL:P3D
CALSCALE:GREGORIAN
BEGIN:VEVENT
DTSTART:20230621T233000Z
DTEND:20230622T013000Z
X-MICROSOFT-CDO-ALLDAYEVENT:FALSE
SUMMARY:Heavy Marching Event
DESCRIPTION:Join us for an evening as we step back in history!\n\nOur local author\, Sara Deluca has released her latest book\, Heavy Marching: The Civil War Letters of Lute Moseley\, 22nd Wisconsin.\n\nSara will be reading excerpts from her book and live music will be performed by Bill Leahy and Janet Kaye.\n\nJune 21 6:30pm-8:30pm\n\n-Civil War Reenactments\n\n-Book Signings\n\n-Live Music\n\n-Book Readings by Author Sara Deluca\n\n-Q&A Session\n\n-Pie and Ice Cream for sale\n\nHeavy Marching: An intimate first-person account of life as an infantry soldier.\n\nLucius "Lute" Moseley was a nineteen-year-old student at Beloit Academy when he enlisted in the Union Army. Raised on a family farm outside Beloit\, Wisconsin\, where his father operated the first dray service before opening a blacksmith shop and lumber yard\, Moseley fought in the Civil War as an infantry soldier in Wisconsin's 22nd Volunteers. Briefly captured and interned in a Confederate POW Camp\, he returned to action and participated in Sherman's Atlanta campaign. He marched in the Washington\, DC\, Grand Review before returning to the Beloit area\, where he remained for the rest of his life.\n\nMoseley wrote detailed missives to his family about his wartime experiences\, demonstrating a flair for describing both camp life and battles. Frank and forthright\, he was remarkably articulate\, insightful\, and thoughtful\, whether describing mundane activities or the nearly unfathomable death of President Lincoln. These 125 letters became touchstones and sources of pride for the Moseley family\; published here for the first time\, they provide a uniquely candid and vivid view of this tumultuous period in US history.
X-ALT-DESC;FMTTYPE=text/html:<div style="border: 0px\; font-style: inherit\; font-variant: inherit\; font-weight: inherit\; font-stretch: inherit\; font-size: inherit\; line-height: inherit\; font-family: &quot\;Segoe UI Historic&quot\;\, &quot\;Segoe UI&quot\;\, Helvetica\, Arial\, sans-serif\; margin: 0px\; padding: 0px\; vertical-align: baseline\; color: rgb(5\, 5\, 5)\;"><i>Join us for an evening as we step back in history!<br aria-hidden="true" />\nOur local author\, Sara Deluca has released her latest book\, Heavy Marching: The Civil War Letters of Lute Moseley\, 22nd Wisconsin.</i></div>\n\n<div style="border: 0px\; font-style: inherit\; font-variant: inherit\; font-weight: inherit\; font-stretch: inherit\; font-size: inherit\; line-height: inherit\; font-family: &quot\;Segoe UI Historic&quot\;\, &quot\;Segoe UI&quot\;\, Helvetica\, Arial\, sans-serif\; margin: 0.5em 0px 0px\; padding: 0px\; vertical-align: baseline\; color: rgb(5\, 5\, 5)\;"><i>Sara will be reading excerpts from her book and live music will be performed by Bill Leahy and Janet Kaye.</i></div>\n\n<div style="border: 0px\; font-style: inherit\; font-variant: inherit\; font-weight: inherit\; font-stretch: inherit\; font-size: inherit\; line-height: inherit\; font-family: &quot\;Segoe UI Historic&quot\;\, &quot\;Segoe UI&quot\;\, Helvetica\, Arial\, sans-serif\; margin: 0.5em 0px 0px\; padding: 0px\; vertical-align: baseline\; color: rgb(5\, 5\, 5)\;"><i>June 21 6:30pm-8:30pm</i></div>\n\n<div style="border: 0px\; font-style: inherit\; font-variant: inherit\; font-weight: inherit\; font-stretch: inherit\; font-size: inherit\; line-height: inherit\; font-family: &quot\;Segoe UI Historic&quot\;\, &quot\;Segoe UI&quot\;\, Helvetica\, Arial\, sans-serif\; margin: 0.5em 0px 0px\; padding: 0px\; vertical-align: baseline\; color: rgb(5\, 5\, 5)\;"><i>-Civil War Reenactments<br aria-hidden="true" />\n-Book Signings<br aria-hidden="true" />\n-Live Music<br aria-hidden="true" />\n-Book Readings by Author Sara Deluca<br aria-hidden="true" />\n-Q&amp\;A Session<br aria-hidden="true" />\n-Pie and Ice Cream for sale</i></div>\n\n<div style="border: 0px\; font-style: inherit\; font-variant: inherit\; font-weight: inherit\; font-stretch: inherit\; font-size: inherit\; line-height: inherit\; font-family: &quot\;Segoe UI Historic&quot\;\, &quot\;Segoe UI&quot\;\, Helvetica\, Arial\, sans-serif\; margin: 0.5em 0px 0px\; padding: 0px\; vertical-align: baseline\; color: rgb(5\, 5\, 5)\;"><i>Heavy Marching: An intimate first-person account of life as an infantry soldier.</i></div>\n\n<div style="border: 0px\; font-style: inherit\; font-variant: inherit\; font-weight: inherit\; font-stretch: inherit\; font-size: inherit\; line-height: inherit\; font-family: &quot\;Segoe UI Historic&quot\;\, &quot\;Segoe UI&quot\;\, Helvetica\, Arial\, sans-serif\; margin: 0.5em 0px 0px\; padding: 0px\; vertical-align: baseline\; color: rgb(5\, 5\, 5)\;"><i>Lucius &ldquo\;Lute&rdquo\; Moseley was a nineteen-year-old student at Beloit Academy when he enlisted in the Union Army. Raised on a family farm outside Beloit\, Wisconsin\, where his father operated the first dray service before opening a blacksmith shop and lumber yard\, Moseley fought in the Civil War as an infantry soldier in Wisconsin&rsquo\;s 22nd Volunteers. Briefly captured and interned in a Confederate POW Camp\, he returned to action and participated in Sherman&rsquo\;s Atlanta campaign. He marched in the Washington\, DC\, Grand Review before returning to the Beloit area\, where he remained for the rest of his life.</i></div>\n\n<div style="border: 0px\; font-style: inherit\; font-variant: inherit\; font-weight: inherit\; font-stretch: inherit\; font-size: inherit\; line-height: inherit\; font-family: &quot\;Segoe UI Historic&quot\;\, &quot\;Segoe UI&quot\;\, Helvetica\, Arial\, sans-serif\; margin: 0.5em 0px 0px\; padding: 0px\; vertical-align: baseline\; color: rgb(5\, 5\, 5)\;"><i>Moseley wrote detailed missives to his family about his wartime experiences\, demonstrating a flair for describing both camp life and battles. Frank and forthright\, he was remarkably articulate\, insightful\, and thoughtful\, whether describing mundane activities or the nearly unfathomable death of President Lincoln. These 125 letters became touchstones and sources of pride for the Moseley family\; published here for the first time\, they provide a uniquely candid and vivid view of this tumultuous period in US history.</i></div>\n\n<div style="border: 0px\; font: inherit\; margin: 0px\; padding: 0px\; vertical-align: baseline\; color: inherit\;">\n<div data-smartmail="gmail_signature" dir="ltr" style="border: 0px\; font: inherit\; margin: 0px\; padding: 0px\; vertical-align: baseline\; color: inherit\;">\n<div dir="ltr" style="border: 0px\; font-variant-numeric: inherit\; font-variant-east-asian: inherit\; font-stretch: inherit\; font-size: 15px\; line-height: inherit\; font-family: &quot\;Segoe UI&quot\;\, &quot\;Segoe UI Web (West European)&quot\;\, &quot\;Segoe UI&quot\;\, -apple-system\, BlinkMacSystemFont\, Roboto\, &quot\;Helvetica Neue&quot\;\, sans-serif\; margin: 0px\; padding: 0px\; vertical-align: baseline\; color: rgb(66\, 66\, 66)\;">&nbsp\;</div>\n</div>\n</div>\n
LOCATION:Heritage Center
UID:e.249.7238
SEQUENCE:3
DTSTAMP:20260421T233747Z
URL:http://business.newrichmondchamber.com/events/details/heavy-marching-event-7238
END:VEVENT

END:VCALENDAR
