BEGIN:VCALENDAR
VERSION:2.0
PRODID:-//ChamberMaster//Event Calendar 2.0//EN
METHOD:PUBLISH
X-PUBLISHED-TTL:P3D
REFRESH-INTERVAL:P3D
CALSCALE:GREGORIAN
BEGIN:VEVENT
DTSTART:20250710T210000Z
DTEND:20250710T230000Z
X-MICROSOFT-CDO-ALLDAYEVENT:FALSE
SUMMARY:Fun Fest Kar Jackers Karaoke
DESCRIPTION:Kar Jackers Karaoke Night at Fun Fest!\n\nThursday\, July 10th\n\n4 6 PM\n\nUnder the Fun Fest Beer Tent (Behind Saltie Bar and Grill)\, New Richmond WI\n\nGet ready to grab the mic and show off your singing skills at Karaoke Night during New Richmond's Fun Fest! Whether you're a shower singer or a stage star\, come out and sing your heart out with Kar Jackers running the show. \n\nNo sign-up needed   just show up and sing!\n\nIt's first come\, first serve and totally free to participate!\n\nBring your friends\, grab a drink from the beer tent\, and cheer each other on for a high-energy afternoon of music and fun.\n\nFor more info\, visit newrichmondchamber.com or call 715-246-2900\n\nLet's hear those vocals\, New Richmond!
X-ALT-DESC;FMTTYPE=text/html:<div class="x_elementToProof" style="border: 0px\; font-variant-numeric: inherit\; font-variant-east-asian: inherit\; font-variant-alternates: inherit\; font-variant-position: inherit\; font-variant-emoji: inherit\; font-stretch: inherit\; font-size: 12pt\; line-height: inherit\; font-family: Calibri\, Helvetica\, sans-serif\, serif\, EmojiFont\; font-optical-sizing: inherit\; font-size-adjust: inherit\; font-kerning: inherit\; font-feature-settings: inherit\; font-variation-settings: inherit\; margin: 1em 0px\; padding: 0px\; vertical-align: baseline\; color: rgb(0\, 0\, 0)\;"><b data-olk-copy-source="MessageBody">&#127908\; Kar Jackers Karaoke Night at Fun Fest!</b></div>\n\n<div class="x_elementToProof" style="border: 0px\; font-variant-numeric: inherit\; font-variant-east-asian: inherit\; font-variant-alternates: inherit\; font-variant-position: inherit\; font-variant-emoji: inherit\; font-stretch: inherit\; font-size: 12pt\; line-height: inherit\; font-family: Calibri\, Helvetica\, sans-serif\, serif\, EmojiFont\; font-optical-sizing: inherit\; font-size-adjust: inherit\; font-kerning: inherit\; font-feature-settings: inherit\; font-variation-settings: inherit\; margin: 1em 0px\; padding: 0px\; vertical-align: baseline\; color: rgb(0\, 0\, 0)\;"><b>Thursday\, July 10th</b></div>\n\n<div class="x_elementToProof" style="border: 0px\; font-variant-numeric: inherit\; font-variant-east-asian: inherit\; font-variant-alternates: inherit\; font-variant-position: inherit\; font-variant-emoji: inherit\; font-stretch: inherit\; font-size: 12pt\; line-height: inherit\; font-family: Calibri\, Helvetica\, sans-serif\, serif\, EmojiFont\; font-optical-sizing: inherit\; font-size-adjust: inherit\; font-kerning: inherit\; font-feature-settings: inherit\; font-variation-settings: inherit\; margin: 1em 0px\; padding: 0px\; vertical-align: baseline\; color: rgb(0\, 0\, 0)\;"><b>4&ndash\;6 PM</b></div>\n\n<div class="x_elementToProof" style="border: 0px\; font-variant-numeric: inherit\; font-variant-east-asian: inherit\; font-variant-alternates: inherit\; font-variant-position: inherit\; font-variant-emoji: inherit\; font-stretch: inherit\; font-size: 12pt\; line-height: inherit\; font-family: Calibri\, Helvetica\, sans-serif\, serif\, EmojiFont\; font-optical-sizing: inherit\; font-size-adjust: inherit\; font-kerning: inherit\; font-feature-settings: inherit\; font-variation-settings: inherit\; margin: 1em 0px\; padding: 0px\; vertical-align: baseline\; color: rgb(0\, 0\, 0)\;"><b>Under the Fun Fest Beer Tent (Behind Saltie Bar and Grill)\, New Richmond WI</b></div>\n\n<div class="x_elementToProof" style="border: 0px\; font-variant-numeric: inherit\; font-variant-east-asian: inherit\; font-variant-alternates: inherit\; font-variant-position: inherit\; font-variant-emoji: inherit\; font-stretch: inherit\; font-size: 12pt\; line-height: inherit\; font-family: Calibri\, Helvetica\, sans-serif\, serif\, EmojiFont\; font-optical-sizing: inherit\; font-size-adjust: inherit\; font-kerning: inherit\; font-feature-settings: inherit\; font-variation-settings: inherit\; margin: 1em 0px\; padding: 0px\; vertical-align: baseline\; color: rgb(0\, 0\, 0)\;">Get ready to grab the mic and show off your singing skills at&nbsp\;<b>Karaoke Night</b>&nbsp\;during New Richmond&rsquo\;s Fun Fest! Whether you&#39\;re a shower singer or a stage star\, come out and sing your heart out with&nbsp\;<b>Kar Jackers</b>&nbsp\;running the show.&nbsp\;</div>\n\n<div class="x_elementToProof" style="border: 0px\; font-variant-numeric: inherit\; font-variant-east-asian: inherit\; font-variant-alternates: inherit\; font-variant-position: inherit\; font-variant-emoji: inherit\; font-stretch: inherit\; font-size: 12pt\; line-height: inherit\; font-family: Calibri\, Helvetica\, sans-serif\, serif\, EmojiFont\; font-optical-sizing: inherit\; font-size-adjust: inherit\; font-kerning: inherit\; font-feature-settings: inherit\; font-variation-settings: inherit\; margin: 1em 0px\; padding: 0px\; vertical-align: baseline\; color: rgb(0\, 0\, 0)\;"><b>No sign-up needed &mdash\; just show up and sing!</b><br />\nIt&rsquo\;s&nbsp\;<b>first come\, first serve</b>&nbsp\;and&nbsp\;<b>totally free</b>&nbsp\;to participate!</div>\n\n<div class="x_elementToProof" style="border: 0px\; font-variant-numeric: inherit\; font-variant-east-asian: inherit\; font-variant-alternates: inherit\; font-variant-position: inherit\; font-variant-emoji: inherit\; font-stretch: inherit\; font-size: 12pt\; line-height: inherit\; font-family: Calibri\, Helvetica\, sans-serif\, serif\, EmojiFont\; font-optical-sizing: inherit\; font-size-adjust: inherit\; font-kerning: inherit\; font-feature-settings: inherit\; font-variation-settings: inherit\; margin: 1em 0px\; padding: 0px\; vertical-align: baseline\; color: rgb(0\, 0\, 0)\;">Bring your friends\, grab a drink from the beer tent\, and cheer each other on for a high-energy afternoon of music and fun.</div>\n\n<div class="x_elementToProof" style="border: 0px\; font-variant-numeric: inherit\; font-variant-east-asian: inherit\; font-variant-alternates: inherit\; font-variant-position: inherit\; font-variant-emoji: inherit\; font-stretch: inherit\; font-size: 12pt\; line-height: inherit\; font-family: Calibri\, Helvetica\, sans-serif\, serif\, EmojiFont\; font-optical-sizing: inherit\; font-size-adjust: inherit\; font-kerning: inherit\; font-feature-settings: inherit\; font-variation-settings: inherit\; margin: 1em 0px\; padding: 0px\; vertical-align: baseline\; color: rgb(0\, 0\, 0)\;">For more info\, visit&nbsp\;<b><a class="x_OWAAutoLink" data-auth="NotApplicable" data-end="757" data-linkindex="0" data-start="697" href="https://newrichmondchamber.com/" id="LPlnkOWA9d55e962-5064-1878-55c8-8ca757dd08b2" style="border: 0px\; font: inherit\; margin: 0px\; padding: 0px\; vertical-align: baseline\;" title="https://newrichmondchamber.com">newrichmondchamber.com</a></b>&nbsp\;or call&nbsp\;<b>715-246-2900</b></div>\n\n<div class="x_elementToProof" style="border: 0px\; font-variant-numeric: inherit\; font-variant-east-asian: inherit\; font-variant-alternates: inherit\; font-variant-position: inherit\; font-variant-emoji: inherit\; font-stretch: inherit\; font-size: 12pt\; line-height: inherit\; font-family: Calibri\, Helvetica\, sans-serif\, serif\, EmojiFont\; font-optical-sizing: inherit\; font-size-adjust: inherit\; font-kerning: inherit\; font-feature-settings: inherit\; font-variation-settings: inherit\; margin: 1em 0px\; padding: 0px\; vertical-align: baseline\; color: rgb(0\, 0\, 0)\;">Let&rsquo\;s hear those vocals\, New Richmond! &#127926\;</div>\n
LOCATION:Beer Tent behind Champs & SALTiE\, LLC
UID:e.249.7907
SEQUENCE:3
DTSTAMP:20260420T051035Z
URL:http://business.newrichmondchamber.com/events/details/fun-fest-kar-jackers-karaoke-7907
END:VEVENT

END:VCALENDAR
