BEGIN:VCALENDAR
VERSION:2.0
PRODID:-//ChamberMaster//Event Calendar 2.0//EN
METHOD:PUBLISH
X-PUBLISHED-TTL:P3D
REFRESH-INTERVAL:P3D
CALSCALE:GREGORIAN
BEGIN:VEVENT
DTSTART:20230911T153000Z
DTEND:20230911T230000Z
X-MICROSOFT-CDO-ALLDAYEVENT:FALSE
SUMMARY:Freedom Park Center Golf Tournament
DESCRIPTION:Join the VFW September 11th to support Freedom Park Center! Registration opens at 10:30 am Shotgun Start 12:00 pm Social & Dinner 5:00 pm
X-ALT-DESC;FMTTYPE=text/html:Join the VFW September 11th to support Freedom Park Center! Registration opens at 10:30 am Shotgun Start 12:00 pm Social &amp\; Dinner 5:00 pm
LOCATION:New Richmond Golf Club 1226 180th Ave New Richmond\, 54017
UID:e.249.7271
SEQUENCE:3
DTSTAMP:20260421T171609Z
URL:http://business.newrichmondchamber.com/events/details/freedom-park-center-golf-tournament-7271
END:VEVENT

END:VCALENDAR
