BEGIN:VCALENDAR
VERSION:2.0
PRODID:-//ChamberMaster//Event Calendar 2.0//EN
METHOD:PUBLISH
X-PUBLISHED-TTL:P3D
REFRESH-INTERVAL:P3D
CALSCALE:GREGORIAN
BEGIN:VEVENT
DTSTART:20221201T210000Z
DTEND:20221201T223000Z
X-MICROSOFT-CDO-ALLDAYEVENT:FALSE
SUMMARY:Float Decorating Happy Hour- Hometown Holidays Parade
DESCRIPTION:Join us for the Lift Bridge Float Decorating Happy Hour from 3 - 4:30 PM and get our float ready for the Parade. Help us out and you'll receive a Beer Token to use after the Parade! Then join everyone downtown New Richmond for Hometown Holidays Parade & Fireworks. You could get lucky and get a Lift Bridge tee out of our t-shirt cannon at the Parade! Warm up with your favorite Lift Bridge beer back at the Taproom and enjoy tunes from Matt Lefler from 7 - 9 PM. Happy Holidays!
X-ALT-DESC;FMTTYPE=text/html:Join us for the Lift Bridge Float Decorating Happy Hour from 3 - 4:30 PM and get our float ready for the Parade. Help us out and you&#39\;ll receive a Beer Token to use after the Parade! Then join everyone downtown New Richmond for Hometown Holidays Parade &amp\; Fireworks. You could get lucky and get a Lift Bridge tee out of our t-shirt cannon at the Parade! Warm up with your favorite Lift Bridge beer back at the Taproom and enjoy tunes from Matt Lefler from 7 - 9 PM. Happy Holidays!
LOCATION:Lift Bridge Brewery\, New Richmond\, WI
UID:e.249.7162
SEQUENCE:3
DTSTAMP:20260424T090816Z
URL:http://business.newrichmondchamber.com/events/details/float-decorating-happy-hour-hometown-holidays-parade-7162
END:VEVENT

END:VCALENDAR
