BEGIN:VCALENDAR
VERSION:2.0
PRODID:-//ChamberMaster//Event Calendar 2.0//EN
METHOD:PUBLISH
X-PUBLISHED-TTL:P3D
REFRESH-INTERVAL:P3D
CALSCALE:GREGORIAN
BEGIN:VEVENT
DTSTART:20240316T150000Z
DTEND:20240316T170000Z
X-MICROSOFT-CDO-ALLDAYEVENT:FALSE
SUMMARY:First Tree Tapping
DESCRIPTION:Glenna Farms\, a family owned and operated pure maple syrup farm in Amery\, Wisc.\, to host the official Wisconsin Maple Syrup Producer's Association (WMSPA) First Tree Tapping on Saturday\, March 16\, 2024. The annual event kicks off the 2024 Wisconsin Maple Month\, which Governor Tony Evers declared as March 15 to April 15.
X-ALT-DESC;FMTTYPE=text/html:Glenna Farms\, a family owned and operated pure maple syrup farm in Amery\, Wisc.\, to host the official Wisconsin Maple Syrup Producer&rsquo\;s Association (WMSPA) First Tree Tapping on Saturday\, March 16\, 2024. The annual event kicks off the 2024 Wisconsin Maple Month\, which Governor Tony Evers declared as March 15 to April 15.
LOCATION:Glenna Farms 1333 120th St Amery\, WI 54001
UID:e.249.7308
SEQUENCE:3
DTSTAMP:20260421T080217Z
URL:http://business.newrichmondchamber.com/events/details/first-tree-tapping-7308
END:VEVENT

END:VCALENDAR
