BEGIN:VCALENDAR
VERSION:2.0
PRODID:-//ChamberMaster//Event Calendar 2.0//EN
METHOD:PUBLISH
X-PUBLISHED-TTL:P3D
REFRESH-INTERVAL:P3D
CALSCALE:GREGORIAN
BEGIN:VEVENT
DTSTART:20220128T180000Z
DTEND:20220130T180000Z
X-MICROSOFT-CDO-ALLDAYEVENT:FALSE
SUMMARY:Fat Bike Worlds
DESCRIPTION:1/28 Packet pickup & NRGC course pre ride Fun Event at 45th 1/29 Feature Event - World Championship at NR Golf Course - 500 Fatbikes Fun event at 45th 1/30 Bike event
X-ALT-DESC;FMTTYPE=text/html:1/28 Packet pickup &amp\; NRGC course pre ride Fun Event at 45th 1/29 Feature Event - World Championship at NR Golf Course - 500 Fatbikes Fun event at 45th 1/30 Bike event
LOCATION:New Richmond Golf Course & 45th
UID:e.249.6944
SEQUENCE:3
DTSTAMP:20260423T030328Z
URL:http://business.newrichmondchamber.com/events/details/fat-bike-worlds-6944
END:VEVENT

END:VCALENDAR
