BEGIN:VCALENDAR
VERSION:2.0
PRODID:-//ChamberMaster//Event Calendar 2.0//EN
METHOD:PUBLISH
X-PUBLISHED-TTL:P3D
REFRESH-INTERVAL:P3D
CALSCALE:GREGORIAN
BEGIN:VEVENT
DTSTART:20230405T163000Z
DTEND:20230405T180000Z
X-MICROSOFT-CDO-ALLDAYEVENT:FALSE
SUMMARY:Family Friendly Workplace Event
DESCRIPTION:Our region faces a long term human resources challenge which requires a strategic and concerted effort to address.\n\n\n\nIn his presentation\, Neil will discuss how family friendly policies and practices can help address the immediate and long-term workforce challenge you face\, and how your company can become involved in the effort to develop a reputation for western Wisconsin as the premier destination to raise a family\, all while strengthening families and children.
X-ALT-DESC;FMTTYPE=text/html:Our region faces a long term human resources challenge which requires a strategic and concerted effort to address.<br />\n<br />\nIn his presentation\, Neil will discuss how family friendly policies and practices can help address the immediate and long-term workforce challenge you face\, and how your company can become involved in the effort to develop a reputation for western Wisconsin as the premier destination to raise a family\, all while strengthening families and children.
LOCATION:New Richmond Area Chamber of Commerce
UID:e.249.7186
SEQUENCE:3
DTSTAMP:20260422T012239Z
URL:http://business.newrichmondchamber.com/events/details/family-friendly-workplace-event-7186
END:VEVENT

END:VCALENDAR
