BEGIN:VCALENDAR
VERSION:2.0
PRODID:-//ChamberMaster//Event Calendar 2.0//EN
METHOD:PUBLISH
X-PUBLISHED-TTL:P3D
REFRESH-INTERVAL:P3D
CALSCALE:GREGORIAN
BEGIN:VEVENT
DTSTART:20250328T133000Z
DTEND:20250328T150000Z
X-MICROSOFT-CDO-ALLDAYEVENT:FALSE
SUMMARY:Eggs & Issues: State of the WI Economy
DESCRIPTION:Is Wisconsin headed into a recession? Join us on March 28th\, 2025 from 8:30am-10am to learn from the state's foremost expert on the WI economy John Koskinen.\n\n\n\nTALKING POINTS:\n \n\nWisconsin Economy\n\n\n	Substantially improved competitiveness\n	Solid position to outperform the rest of the country\n	Structural advantages in labor force\, tax burden\, and entrepreneurship\n\n\nSaint Croix County\n\n\n	Active participant in improving Wisconsin's economy\n	Significant gains in businesses\, employment\, labor force\, and population
X-ALT-DESC;FMTTYPE=text/html:Is Wisconsin headed into a recession? Join us on March 28th\, 2025 from 8:30am-10am to learn from the state&#39\;s foremost expert on the WI economy John Koskinen.<br />\n<br />\nTALKING POINTS:\n<p class="x_MsoNormal" style="margin: 0in\; font-size: 12pt\; font-family: Aptos\, sans-serif\; color: rgb(36\, 36\, 36)\;"><span data-olk-copy-source="MessageBody" style="border: 0px\; font-style: inherit\; font-variant: inherit\; font-weight: inherit\; font-stretch: inherit\; font-size: 11pt\; line-height: inherit\; font-family: inherit\; font-optical-sizing: inherit\; font-size-adjust: inherit\; font-kerning: inherit\; font-feature-settings: inherit\; font-variation-settings: inherit\; margin: 0px\; padding: 0px\; vertical-align: baseline\; color: inherit\;">&nbsp\;</span></p>\n\n<p class="x_MsoNormal" style="margin: 0in\; font-size: 12pt\; font-family: Aptos\, sans-serif\; color: rgb(36\, 36\, 36)\;"><b><span style="border: 0px\; font-style: inherit\; font-variant: inherit\; font-weight: inherit\; font-stretch: inherit\; font-size: 11pt\; line-height: inherit\; font-family: inherit\; font-optical-sizing: inherit\; font-size-adjust: inherit\; font-kerning: inherit\; font-feature-settings: inherit\; font-variation-settings: inherit\; margin: 0px\; padding: 0px\; vertical-align: baseline\; color: inherit\;">Wisconsin Economy</span></b></p>\n\n<ul style="margin-bottom: 0in\; color: rgb(36\, 36\, 36)\; font-family: &quot\;Segoe UI&quot\;\, &quot\;Segoe UI Web (West European)&quot\;\, -apple-system\, BlinkMacSystemFont\, Roboto\, &quot\;Helvetica Neue&quot\;\, sans-serif\; font-size: 15px\; margin-top: 0in\;" type="disc">\n	<li class="x_MsoListParagraph" style="margin: 0in 0in 0in 0.5in\; font-size: 12pt\; font-family: Aptos\, sans-serif\;"><span style="border: 0px\; font-style: inherit\; font-variant: inherit\; font-weight: inherit\; font-stretch: inherit\; font-size: 11pt\; line-height: inherit\; font-family: inherit\; font-optical-sizing: inherit\; font-size-adjust: inherit\; font-kerning: inherit\; font-feature-settings: inherit\; font-variation-settings: inherit\; margin: 0px\; padding: 0px\; vertical-align: baseline\; color: inherit\;">Substantially improved competitiveness</span></li>\n	<li class="x_MsoListParagraph" style="margin: 0in 0in 0in 0.5in\; font-size: 12pt\; font-family: Aptos\, sans-serif\;"><span style="border: 0px\; font-style: inherit\; font-variant: inherit\; font-weight: inherit\; font-stretch: inherit\; font-size: 11pt\; line-height: inherit\; font-family: inherit\; font-optical-sizing: inherit\; font-size-adjust: inherit\; font-kerning: inherit\; font-feature-settings: inherit\; font-variation-settings: inherit\; margin: 0px\; padding: 0px\; vertical-align: baseline\; color: inherit\;">Solid position to outperform the rest of the country</span></li>\n	<li class="x_MsoListParagraph" style="margin: 0in 0in 0in 0.5in\; font-size: 12pt\; font-family: Aptos\, sans-serif\;"><span style="border: 0px\; font-style: inherit\; font-variant: inherit\; font-weight: inherit\; font-stretch: inherit\; font-size: 11pt\; line-height: inherit\; font-family: inherit\; font-optical-sizing: inherit\; font-size-adjust: inherit\; font-kerning: inherit\; font-feature-settings: inherit\; font-variation-settings: inherit\; margin: 0px\; padding: 0px\; vertical-align: baseline\; color: inherit\;">Structural advantages in labor force\, tax burden\, and entrepreneurship</span></li>\n</ul>\n\n<p class="x_MsoNormal" style="margin: 0in\; font-size: 12pt\; font-family: Aptos\, sans-serif\; color: rgb(36\, 36\, 36)\;"><b><span style="border: 0px\; font-style: inherit\; font-variant: inherit\; font-weight: inherit\; font-stretch: inherit\; font-size: 11pt\; line-height: inherit\; font-family: inherit\; font-optical-sizing: inherit\; font-size-adjust: inherit\; font-kerning: inherit\; font-feature-settings: inherit\; font-variation-settings: inherit\; margin: 0px\; padding: 0px\; vertical-align: baseline\; color: inherit\;">Saint Croix County</span></b></p>\n\n<ul style="margin-bottom: 0in\; color: rgb(36\, 36\, 36)\; font-family: &quot\;Segoe UI&quot\;\, &quot\;Segoe UI Web (West European)&quot\;\, -apple-system\, BlinkMacSystemFont\, Roboto\, &quot\;Helvetica Neue&quot\;\, sans-serif\; font-size: 15px\; margin-top: 0in\;" type="disc">\n	<li class="x_MsoListParagraph" style="margin: 0in 0in 0in 0.5in\; font-size: 12pt\; font-family: Aptos\, sans-serif\;"><span style="border: 0px\; font-style: inherit\; font-variant: inherit\; font-weight: inherit\; font-stretch: inherit\; font-size: 11pt\; line-height: inherit\; font-family: inherit\; font-optical-sizing: inherit\; font-size-adjust: inherit\; font-kerning: inherit\; font-feature-settings: inherit\; font-variation-settings: inherit\; margin: 0px\; padding: 0px\; vertical-align: baseline\; color: inherit\;">Active participant in improving Wisconsin&#39\;s economy</span></li>\n	<li class="x_MsoListParagraph" style="margin: 0in 0in 0in 0.5in\; font-size: 12pt\; font-family: Aptos\, sans-serif\;"><span style="border: 0px\; font-style: inherit\; font-variant: inherit\; font-weight: inherit\; font-stretch: inherit\; font-size: 11pt\; line-height: inherit\; font-family: inherit\; font-optical-sizing: inherit\; font-size-adjust: inherit\; font-kerning: inherit\; font-feature-settings: inherit\; font-variation-settings: inherit\; margin: 0px\; padding: 0px\; vertical-align: baseline\; color: inherit\;">Significant gains in businesses\, employment\, labor force\, and population</span></li>\n</ul>\n
LOCATION:Northwood Technical College - Entrance A - Conference Center 1122B
UID:e.249.7755
SEQUENCE:3
DTSTAMP:20260420T132421Z
URL:http://business.newrichmondchamber.com/events/details/eggs-issues-state-of-the-wi-economy-7755
END:VEVENT

END:VCALENDAR
