BEGIN:VCALENDAR
VERSION:2.0
PRODID:-//ChamberMaster//Event Calendar 2.0//EN
METHOD:PUBLISH
X-PUBLISHED-TTL:P3D
REFRESH-INTERVAL:P3D
CALSCALE:GREGORIAN
BEGIN:VEVENT
DTSTART:20250425T133000Z
DTEND:20250425T150000Z
X-MICROSOFT-CDO-ALLDAYEVENT:FALSE
SUMMARY:Eggs & Issues: Little Minds\, Big Conversation Childcare Panel Discussion
DESCRIPTION:Join us to hear from a panel of childcare professionals about the cost and availability of childcare. Breakfast provided.
X-ALT-DESC;FMTTYPE=text/html:Join us to hear from a panel of childcare professionals about the cost and availability of childcare. Breakfast provided.<br />\n&nbsp\;
LOCATION:Northwood Technical College Lecture Hall 1124B (Burnett Room)
UID:e.249.7886
SEQUENCE:3
DTSTAMP:20260420T114308Z
URL:http://business.newrichmondchamber.com/events/details/eggs-issues-little-minds-big-conversation-childcare-panel-discussion-7886
END:VEVENT

END:VCALENDAR
