BEGIN:VCALENDAR
VERSION:2.0
PRODID:-//ChamberMaster//Event Calendar 2.0//EN
METHOD:PUBLISH
X-PUBLISHED-TTL:P3D
REFRESH-INTERVAL:P3D
CALSCALE:GREGORIAN
BEGIN:VEVENT
DTSTART:20220801T150000Z
DTEND:20220801T160000Z
X-MICROSOFT-CDO-ALLDAYEVENT:FALSE
SUMMARY:Dick's Ribbon Cutting
DESCRIPTION:
X-ALT-DESC;FMTTYPE=text/html:
LOCATION:Dick's Fresh Market 110 W Fourth Street\, New Richmond WI 54017
UID:e.249.7003
SEQUENCE:3
DTSTAMP:20260422T153818Z
URL:http://business.newrichmondchamber.com/events/details/dick-s-ribbon-cutting-7003
END:VEVENT

END:VCALENDAR
