BEGIN:VCALENDAR
VERSION:2.0
PRODID:-//ChamberMaster//Event Calendar 2.0//EN
METHOD:PUBLISH
X-PUBLISHED-TTL:P3D
REFRESH-INTERVAL:P3D
CALSCALE:GREGORIAN
BEGIN:VEVENT
DTSTART:20221118T180000Z
DTEND:20221121T000000Z
X-MICROSOFT-CDO-ALLDAYEVENT:FALSE
SUMMARY:Commander Release Party
DESCRIPTION:Join the Lift Bridge Brewery team all weekend long in celebrating the release of our famous barrel aged English Style Barleywine\, Commander! The weekend festivities will include Hammer-Schlagen\, live music by Matt Lefler (Friday & Saturday from 3-6PM)\, and Cask & Barrel Pours all weekend so get your Commander straight from the barrel. Experience all that Commander has to offer at our taproom and then take your favorites home with you.
X-ALT-DESC;FMTTYPE=text/html:Join the Lift Bridge Brewery team all weekend long in celebrating the release of our famous barrel aged English Style Barleywine\, Commander! The weekend festivities will include Hammer-Schlagen\, live music by Matt Lefler (Friday &amp\; Saturday from 3-6PM)\, and Cask &amp\; Barrel Pours all weekend so get your Commander straight from the barrel. Experience all that Commander has to offer at our taproom and then take your favorites home with you.
LOCATION:Lift Bridge Brewing Company - New Richmond\, WI
UID:e.249.7156
SEQUENCE:3
DTSTAMP:20260422T120122Z
URL:http://business.newrichmondchamber.com/events/details/commander-release-party-7156
END:VEVENT

END:VCALENDAR
