BEGIN:VCALENDAR
VERSION:2.0
PRODID:-//ChamberMaster//Event Calendar 2.0//EN
METHOD:PUBLISH
X-PUBLISHED-TTL:P3D
REFRESH-INTERVAL:P3D
CALSCALE:GREGORIAN
BEGIN:VEVENT
DTSTART;VALUE=DATE:20251224
DTEND;VALUE=DATE:20251225
TRANSP:TRANSPARENT
X-MICROSOFT-CDO-ALLDAYEVENT:TRUE
SUMMARY:CHRISTMAS EVE SERVICES
DESCRIPTION:Come celebrate Christmas Eve at Prairieview Covenant Church! Join us for one of our two identical candlelight services and experience an evening filled with carols\, Scripture\, and the story that changed everything. Whether you've been following Jesus for years or are just beginning to explore faith\, you'll find a welcoming place to encounter the wonder\, hope\, and joy of His birth.
X-ALT-DESC;FMTTYPE=text/html:<p><span style="font-size:14px">Come celebrate Christmas Eve at Prairieview Covenant Church! Join us for one of our two identical candlelight services and experience an evening filled with carols\, Scripture\, and the story that changed everything. Whether you&rsquo\;ve been following Jesus for years or are just beginning to explore faith\, you&rsquo\;ll find a welcoming place to encounter the wonder\, hope\, and joy of His birth.</span></p>\n
LOCATION:Prairieview Covenant Church
UID:e.249.7925
SEQUENCE:3
DTSTAMP:20260419T162912Z
URL:http://business.newrichmondchamber.com/events/details/christmas-eve-services-7925
END:VEVENT

END:VCALENDAR
