BEGIN:VCALENDAR
VERSION:2.0
PRODID:-//ChamberMaster//Event Calendar 2.0//EN
METHOD:PUBLISH
X-PUBLISHED-TTL:P3D
REFRESH-INTERVAL:P3D
CALSCALE:GREGORIAN
BEGIN:VEVENT
DTSTART:20220922T220000Z
DTEND:20220923T000000Z
X-MICROSOFT-CDO-ALLDAYEVENT:FALSE
SUMMARY:Chamber Business After 5
DESCRIPTION:Join us for our fall Business After 5 overlooking the scenic Apple River at the Riverwood Nature Center Event Center from 5-7pm for two hours of networking and seeing all the progress at this regional tourist attraction.
X-ALT-DESC;FMTTYPE=text/html:Join us for our fall Business After 5 overlooking the scenic Apple River at the Riverwood Nature Center Event Center from 5-7pm for two hours of networking and seeing all the progress at this regional tourist attraction.
LOCATION:Riverwood Nature Event Center 300 First St. Star Prairie
UID:e.249.7012
SEQUENCE:3
DTSTAMP:20260422T135442Z
URL:http://business.newrichmondchamber.com/events/details/chamber-business-after-5-7012
END:VEVENT

END:VCALENDAR
