BEGIN:VCALENDAR
VERSION:2.0
PRODID:-//ChamberMaster//Event Calendar 2.0//EN
METHOD:PUBLISH
X-PUBLISHED-TTL:P3D
REFRESH-INTERVAL:P3D
CALSCALE:GREGORIAN
BEGIN:VEVENT
DTSTART:20220331T220000Z
DTEND:20220401T000000Z
X-MICROSOFT-CDO-ALLDAYEVENT:FALSE
SUMMARY:Chamber Business After 5
DESCRIPTION:Chamber Business After 5 at 45th Parallel.  Great networking opportunity at a great venue in New Richmond.  These are always fun events and join us as we celebrate the success at 45th Parallel
X-ALT-DESC;FMTTYPE=text/html:Chamber Business After 5 at 45th Parallel.&nbsp\; Great networking opportunity at a great venue in New Richmond.&nbsp\; These are always fun events and join us as we celebrate the success at 45th Parallel&nbsp\;
LOCATION:45th Parallel 1490 Madison Ave New Richmond\, WI
UID:e.249.6981
SEQUENCE:3
DTSTAMP:20260423T010925Z
URL:http://business.newrichmondchamber.com/events/details/chamber-business-after-5-6981
END:VEVENT

END:VCALENDAR
