BEGIN:VCALENDAR
VERSION:2.0
PRODID:-//ChamberMaster//Event Calendar 2.0//EN
METHOD:PUBLISH
X-PUBLISHED-TTL:P3D
REFRESH-INTERVAL:P3D
CALSCALE:GREGORIAN
BEGIN:VEVENT
DTSTART:20210811T170000Z
DTEND:20210811T180000Z
X-MICROSOFT-CDO-ALLDAYEVENT:FALSE
SUMMARY:Chamber Ambassador Lunch
DESCRIPTION:Join this monthly networking chamber group for lunch at local establishments and expand you contacts\, promote your events and specials\, and learn what is going on in the New Richmond area.  Generally about 25 chamber ambassadors attend monthly.  As an ambassador\, you are invited to ribbon cuttings\, and volunteering opportunities at chamber events.
X-ALT-DESC;FMTTYPE=text/html:Join this monthly networking chamber group for lunch at local establishments and expand you contacts\, promote your events and specials\, and learn what is going on in the New Richmond area.&nbsp\; Generally about 25 chamber ambassadors attend monthly.&nbsp\; As an ambassador\, you are invited to ribbon cuttings\, and volunteering opportunities at chamber events.
LOCATION:Champs Sports Bar & Grill (outside on middle deck weather permitting)
UID:e.249.6903
SEQUENCE:3
DTSTAMP:20260423T111454Z
URL:http://business.newrichmondchamber.com/events/details/chamber-ambassador-lunch-08-11-2021-6903
END:VEVENT

END:VCALENDAR
