BEGIN:VCALENDAR
VERSION:2.0
PRODID:-//ChamberMaster//Event Calendar 2.0//EN
METHOD:PUBLISH
X-PUBLISHED-TTL:P3D
REFRESH-INTERVAL:P3D
CALSCALE:GREGORIAN
BEGIN:VEVENT
DTSTART:20230412T212000Z
DTEND:20230412T233000Z
X-MICROSOFT-CDO-ALLDAYEVENT:FALSE
SUMMARY:Business After Five
DESCRIPTION:Chamber Business After 5
X-ALT-DESC;FMTTYPE=text/html:Chamber Business After 5
LOCATION:Lunberjack Liquors
UID:e.249.7185
SEQUENCE:3
DTSTAMP:20260422T012229Z
URL:http://business.newrichmondchamber.com/events/details/business-after-five-7185
END:VEVENT

END:VCALENDAR
