BEGIN:VCALENDAR
VERSION:2.0
PRODID:-//ChamberMaster//Event Calendar 2.0//EN
METHOD:PUBLISH
X-PUBLISHED-TTL:P3D
REFRESH-INTERVAL:P3D
CALSCALE:GREGORIAN
BEGIN:VEVENT
DTSTART:20250305T210000Z
DTEND:20250306T010000Z
X-MICROSOFT-CDO-ALLDAYEVENT:FALSE
SUMMARY:Ash Wednesday Self-Guided Experience
DESCRIPTION:Join us at Prairieview Covenant Church on Mar 5 for Ash Wednesday\; a special day that marks the beginning of Lent. This self-guided experience will take you through the movements of Ash Wednesday (confronting our own mortality and confessing our sins before God) by engaging in a few stations around the facility. Kid-friendly activities are also available. Come anytime between 3:00-7:00pm and plan to take approximately 30 minutes to complete.
X-ALT-DESC;FMTTYPE=text/html:Join us at Prairieview Covenant Church on Mar 5 for Ash Wednesday\; a special day that marks the beginning of Lent. This self-guided experience will take you through the movements of Ash Wednesday (confronting our own mortality and confessing our sins before God) by engaging in a few stations around the facility. Kid-friendly activities are also available. Come anytime between 3:00-7:00pm and plan to take approximately 30 minutes to complete.
LOCATION:Prairieview Covenant Church 1396 210th Ave New Richmond\, WI 54017
UID:e.249.7748
SEQUENCE:3
DTSTAMP:20260420T145200Z
URL:http://business.newrichmondchamber.com/events/details/ash-wednesday-self-guided-experience-7748
END:VEVENT

END:VCALENDAR
