BEGIN:VCALENDAR
VERSION:2.0
PRODID:-//ChamberMaster//Event Calendar 2.0//EN
METHOD:PUBLISH
X-PUBLISHED-TTL:P3D
REFRESH-INTERVAL:P3D
CALSCALE:GREGORIAN
BEGIN:VEVENT
DTSTART:20260218T210000Z
DTEND:20260219T010000Z
X-MICROSOFT-CDO-ALLDAYEVENT:FALSE
SUMMARY:ASH WEDNESDAY SELF-GUIDED EXPERIENCE
DESCRIPTION:Join us on Feb 18 for Ash Wednesday\; a special day that marks the beginning of Lent. This self-guided experience will take you through the movements of Ash Wednesday (confronting our own mortality and confessing our sins before God) by engaging in stations around the facility. Kid-friendly activities are also available. Come anytime between 3:00-7:00pm and plan to take approximately 30 minutes to complete.
X-ALT-DESC;FMTTYPE=text/html:<p>Join us on Feb 18 for Ash Wednesday\; a special day that marks the beginning of Lent. This self-guided experience will take you through the movements of Ash Wednesday (confronting our own mortality and confessing our sins before God) by engaging in stations around the facility. Kid-friendly activities are also available. Come anytime between 3:00-7:00pm and plan to take approximately 30 minutes to complete.</p>\n
LOCATION:PRAIRIEVIEW COVENANT CHURCH 1396 210TH AVENUE NEW RICHMOND\, WI 54017
UID:e.249.7930
SEQUENCE:3
DTSTAMP:20260419T133043Z
URL:http://business.newrichmondchamber.com/events/details/ash-wednesday-self-guided-experience-02-18-2026-7930
END:VEVENT

END:VCALENDAR
