BEGIN:VCALENDAR
VERSION:2.0
PRODID:-//ChamberMaster//Event Calendar 2.0//EN
METHOD:PUBLISH
X-PUBLISHED-TTL:P3D
REFRESH-INTERVAL:P3D
CALSCALE:GREGORIAN
BEGIN:VEVENT
DTSTART:20250228T143000Z
DTEND:20250228T160000Z
X-MICROSOFT-CDO-ALLDAYEVENT:FALSE
SUMMARY:AI Workshop
DESCRIPTION:The New Richmond Area Chamber is excited to welcome Princess Paula of Princess Paula Consulting for an AI workshop. Known for her dynamic and engaging style\, Paula will show you how Generative AI is transforming the business landscape\, and more importantly\, how you can harness its power for your own success.  The world of technology is growing and evolving quickly and whether you're a local small business owner or leading a growing enterprise\, this session will provide the insights and tools you need to embrace Generative AI and enhance your operations. With Paula's engaging and hands on approach\, you'll leave equipped and confident to put AI to work for you right away!\n\n \n\nKey takeaways include:\n\n\n	Explore the history and background of generative AI\n	Discover practical\, easy-to-apply AI strategies for your business\n	Get hands-on experience with Generative AI tools during the event\n	Leave with actionable insights that you can implement immediately\n\n\n \n\nDon't miss this value-packed event tailored just for Chamber members an exciting opportunity to uncover practical insights and strategies that can truly elevate your business!
X-ALT-DESC;FMTTYPE=text/html:<p class="x_MsoNormal" style="margin: 0in\; font-size: 12pt\; font-family: Aptos\, sans-serif\; color: rgb(36\, 36\, 36)\;"><span style="border: 0px\; font-variant: inherit\; font-weight: inherit\; font-stretch: inherit\; font-size: inherit\; line-height: inherit\; font-family: inherit\; font-optical-sizing: inherit\; font-size-adjust: inherit\; font-kerning: inherit\; font-feature-settings: inherit\; font-variation-settings: inherit\; margin: 0px\; padding: 0px\; vertical-align: baseline\; color: inherit\;"><span data-olk-copy-source="MessageBody" style="font-style: inherit\; border: 0px\; font-variant: inherit\; font-weight: inherit\; font-stretch: inherit\; font-size: 11pt\; line-height: inherit\; font-family: Calibri\, sans-serif\; font-optical-sizing: inherit\; font-size-adjust: inherit\; font-kerning: inherit\; font-feature-settings: inherit\; font-variation-settings: inherit\; margin: 0px\; padding: 0px\; vertical-align: baseline\; color: rgb(22\, 62\, 100)\;">The New Richmond Area Chamber is excited to welcome Princess Paula of Princess Paula Consulting for an AI workshop.</span><span data-olk-copy-source="MessageBody" style="border: 0px\; font-variant: inherit\; font-weight: inherit\; font-stretch: inherit\; font-size: 11pt\; line-height: inherit\; font-family: Calibri\, sans-serif\; font-optical-sizing: inherit\; font-size-adjust: inherit\; font-kerning: inherit\; font-feature-settings: inherit\; font-variation-settings: inherit\; margin: 0px\; padding: 0px\; vertical-align: baseline\; color: rgb(22\, 62\, 100)\;"><span style="font-style: inherit\;">&nbsp\;Known for her dynamic and engaging style\, Paula will show you how Generative AI is transforming the business landscape\, and more importantly\, how you can harness its power for your own success. &nbsp\;The world of technology is growing and evolving quickly and whether you&#39\;re a local small business owner or leading a growing enterprise\, this session will provide the insights and tools you need to embrace Generative AI and enhance your operations. With Paula&#39\;s engaging and hands on approach\, you&#39\;ll leave equipped and confident to put AI to work for you right away!</span></span></span></p>\n\n<p class="x_MsoNormal" style="margin: 0in\; font-size: 12pt\; font-family: Aptos\, sans-serif\; color: rgb(36\, 36\, 36)\;"><span style="border: 0px\; font: inherit\; margin: 0px\; padding: 0px\; vertical-align: baseline\; color: inherit\;"><span style="border: 0px\; font-style: inherit\; font-variant: inherit\; font-weight: inherit\; font-stretch: inherit\; font-size: 11pt\; line-height: inherit\; font-family: Calibri\, sans-serif\; font-optical-sizing: inherit\; font-size-adjust: inherit\; font-kerning: inherit\; font-feature-settings: inherit\; font-variation-settings: inherit\; margin: 0px\; padding: 0px\; vertical-align: baseline\; color: rgb(22\, 62\, 100)\;">&nbsp\;</span></span></p>\n\n<p class="x_MsoNormal" style="margin: 0in\; font-size: 12pt\; font-family: Aptos\, sans-serif\; color: rgb(36\, 36\, 36)\;"><span style="border: 0px\; font: inherit\; margin: 0px\; padding: 0px\; vertical-align: baseline\; color: inherit\;"><span style="border: 0px\; font-style: inherit\; font-variant: inherit\; font-weight: inherit\; font-stretch: inherit\; font-size: 11pt\; line-height: inherit\; font-family: Calibri\, sans-serif\; font-optical-sizing: inherit\; font-size-adjust: inherit\; font-kerning: inherit\; font-feature-settings: inherit\; font-variation-settings: inherit\; margin: 0px\; padding: 0px\; vertical-align: baseline\; color: rgb(22\, 62\, 100)\;">Key takeaways include:</span></span></p>\n\n<ul font-size:="" helvetica="" margin-top:="" segoe="" style="margin-bottom: 0in\; color: rgb(36\, 36\, 36)\; font-family: " type="disc" ui="" web="" west="">\n	<li class="x_MsoNormal" style="margin: 0in\; font-size: 12pt\; font-family: Aptos\, sans-serif\; color: rgb(14\, 40\, 65)\;"><span style="border: 0px\; font: inherit\; margin: 0px\; padding: 0px\; vertical-align: baseline\; color: inherit\;"><span style="border: 0px\; font-style: inherit\; font-variant: inherit\; font-weight: inherit\; font-stretch: inherit\; font-size: 11pt\; line-height: inherit\; font-family: Calibri\, sans-serif\; font-optical-sizing: inherit\; font-size-adjust: inherit\; font-kerning: inherit\; font-feature-settings: inherit\; font-variation-settings: inherit\; margin: 0px\; padding: 0px\; vertical-align: baseline\; color: rgb(22\, 62\, 100)\;"><span style="border: 0px\; font: inherit\; margin: 0px\; padding: 0px\; vertical-align: baseline\; color: windowtext\;">Explore the history and background of generative AI</span></span></span></li>\n	<li class="x_MsoNormal" style="margin: 0in\; font-size: 12pt\; font-family: Aptos\, sans-serif\; color: rgb(14\, 40\, 65)\;"><span style="border: 0px\; font: inherit\; margin: 0px\; padding: 0px\; vertical-align: baseline\; color: inherit\;"><span style="border: 0px\; font-style: inherit\; font-variant: inherit\; font-weight: inherit\; font-stretch: inherit\; font-size: 11pt\; line-height: inherit\; font-family: Calibri\, sans-serif\; font-optical-sizing: inherit\; font-size-adjust: inherit\; font-kerning: inherit\; font-feature-settings: inherit\; font-variation-settings: inherit\; margin: 0px\; padding: 0px\; vertical-align: baseline\; color: rgb(22\, 62\, 100)\;"><span style="border: 0px\; font: inherit\; margin: 0px\; padding: 0px\; vertical-align: baseline\; color: windowtext\;">Discover practical\, easy-to-apply AI strategies for your business</span></span></span></li>\n	<li class="x_MsoNormal" style="margin: 0in\; font-size: 12pt\; font-family: Aptos\, sans-serif\; color: rgb(14\, 40\, 65)\;"><span style="border: 0px\; font: inherit\; margin: 0px\; padding: 0px\; vertical-align: baseline\; color: inherit\;"><span style="border: 0px\; font-style: inherit\; font-variant: inherit\; font-weight: inherit\; font-stretch: inherit\; font-size: 11pt\; line-height: inherit\; font-family: Calibri\, sans-serif\; font-optical-sizing: inherit\; font-size-adjust: inherit\; font-kerning: inherit\; font-feature-settings: inherit\; font-variation-settings: inherit\; margin: 0px\; padding: 0px\; vertical-align: baseline\; color: rgb(22\, 62\, 100)\;"><span style="border: 0px\; font: inherit\; margin: 0px\; padding: 0px\; vertical-align: baseline\; color: windowtext\;">Get hands-on experience with Generative AI tools during the event</span></span></span></li>\n	<li class="x_MsoNormal" style="margin: 0in\; font-size: 12pt\; font-family: Aptos\, sans-serif\; color: rgb(14\, 40\, 65)\;"><span style="border: 0px\; font: inherit\; margin: 0px\; padding: 0px\; vertical-align: baseline\; color: inherit\;"><span style="border: 0px\; font-style: inherit\; font-variant: inherit\; font-weight: inherit\; font-stretch: inherit\; font-size: 11pt\; line-height: inherit\; font-family: Calibri\, sans-serif\; font-optical-sizing: inherit\; font-size-adjust: inherit\; font-kerning: inherit\; font-feature-settings: inherit\; font-variation-settings: inherit\; margin: 0px\; padding: 0px\; vertical-align: baseline\; color: rgb(22\, 62\, 100)\;"><span style="border: 0px\; font: inherit\; margin: 0px\; padding: 0px\; vertical-align: baseline\; color: windowtext\;">Leave with actionable insights that you can implement immediately</span></span></span></li>\n</ul>\n\n<p class="x_MsoNormal" style="margin: 0in\; font-size: 12pt\; font-family: Aptos\, sans-serif\; color: rgb(36\, 36\, 36)\;"><span style="border: 0px\; font: inherit\; margin: 0px\; padding: 0px\; vertical-align: baseline\; color: inherit\;"><span style="border: 0px\; font-style: inherit\; font-variant: inherit\; font-weight: inherit\; font-stretch: inherit\; font-size: 11pt\; line-height: inherit\; font-family: Calibri\, sans-serif\; font-optical-sizing: inherit\; font-size-adjust: inherit\; font-kerning: inherit\; font-feature-settings: inherit\; font-variation-settings: inherit\; margin: 0px\; padding: 0px\; vertical-align: baseline\; color: rgb(22\, 62\, 100)\;">&nbsp\;</span></span></p>\n\n<p class="x_MsoNormal" style="margin: 0in\; font-size: 12pt\; font-family: Aptos\, sans-serif\; color: rgb(36\, 36\, 36)\;"><span style="border: 0px\; font: inherit\; margin: 0px\; padding: 0px\; vertical-align: baseline\; color: inherit\;"><span style="border: 0px\; font-style: inherit\; font-variant: inherit\; font-weight: inherit\; font-stretch: inherit\; font-size: 11pt\; line-height: inherit\; font-family: Calibri\, sans-serif\; font-optical-sizing: inherit\; font-size-adjust: inherit\; font-kerning: inherit\; font-feature-settings: inherit\; font-variation-settings: inherit\; margin: 0px\; padding: 0px\; vertical-align: baseline\; color: rgb(22\, 62\, 100)\;">Don&rsquo\;t miss this value-packed event tailored just for Chamber members&mdash\;an exciting opportunity to uncover practical insights and strategies that can truly elevate your business!</span></span></p>\n
LOCATION:Northwood Technical College Cashman Conference Center - Entrance A
UID:e.249.7750
SEQUENCE:3
DTSTAMP:20260420T145141Z
URL:http://business.newrichmondchamber.com/events/details/ai-workshop-7750
END:VEVENT

END:VCALENDAR
