BEGIN:VCALENDAR
VERSION:2.0
PRODID:-//ChamberMaster//Event Calendar 2.0//EN
METHOD:PUBLISH
X-PUBLISHED-TTL:P3D
REFRESH-INTERVAL:P3D
CALSCALE:GREGORIAN
BEGIN:VEVENT
DTSTART:20210911T150000Z
DTEND:20210911T200000Z
X-MICROSOFT-CDO-ALLDAYEVENT:FALSE
SUMMARY:9/11 Remembrance Craft Vendor & Sweet Treats Show
DESCRIPTION:Rustic Eagle Home Decor & Furnishings is hosting a 9/11 Remembrance Craft Vendor & Sweet Treats Show!\n\nSaturday September 11th 2021 From 10am-3pm\n\nVendors-\n\nRustic Eagle\n\nPaisley Jean Designs\n\nSiblings Sweet Treats\n\nColor Street\n\nLimelife\n\n \n\nRustic Eagle is offering 15% off in store to all First Responders.
X-ALT-DESC;FMTTYPE=text/html:<span style="color:#050505\;"><span style="font-family:segoe ui historic\,sans-serif\;"><span style="font-size:11.5pt\;">Rustic Eagle Home Decor &amp\; Furnishings is hosting a 9/11 Remembrance Craft Vendor &amp\; Sweet Treats Show!</span></span></span><br />\n<span style="color:#050505\;"><span style="font-family:segoe ui historic\,sans-serif\;"><span style="font-size:11.5pt\;">Saturday September 11th 2021 From 10am-3pm</span></span></span><br />\n<span style="color:#050505\;"><span style="font-family:segoe ui historic\,sans-serif\;"><span style="font-size:11.5pt\;">Vendors-<br />\nRustic Eagle<br />\nPaisley Jean Designs<br />\nSiblings Sweet Treats<br />\nColor Street<br />\nLimelife</span></span></span><br />\n&nbsp\;<br />\n<span style="color:#050505\;"><span style="font-family:segoe ui historic\,sans-serif\;"><span style="font-size:11.5pt\;">Rustic Eagle is offering 15% off in store to all First Responders.</span></span></span>
LOCATION:Rustic Eagle Home Decor 1477 WI-65 New Richmond WI 54017
UID:e.249.6955
SEQUENCE:3
DTSTAMP:20260423T093638Z
URL:http://business.newrichmondchamber.com/events/details/9-11-remembrance-craft-vendor-sweet-treats-show-6955
END:VEVENT

END:VCALENDAR
