BEGIN:VCALENDAR
VERSION:2.0
PRODID:-//ChamberMaster//Event Calendar 2.0//EN
METHOD:PUBLISH
X-PUBLISHED-TTL:P3D
REFRESH-INTERVAL:P3D
CALSCALE:GREGORIAN
BEGIN:VEVENT
DTSTART;VALUE=DATE:20230416
DTEND;VALUE=DATE:20230417
TRANSP:TRANSPARENT
X-MICROSOFT-CDO-ALLDAYEVENT:TRUE
SUMMARY:45th Parallel's Hunting & Fishing Outdoor Expo
DESCRIPTION:45th Parallel's Hunting & Fishing outdoor Expo
X-ALT-DESC;FMTTYPE=text/html:45th Parallel&#39\;s Hunting &amp\; Fishing outdoor Expo
LOCATION:45th Parallel
UID:e.249.7179
SEQUENCE:3
DTSTAMP:20260422T014348Z
URL:http://business.newrichmondchamber.com/events/details/45th-parallel-s-hunting-fishing-outdoor-expo-7179
END:VEVENT

END:VCALENDAR
